BEGIN:VCALENDAR
VERSION:2.0
PRODID:-//Sacred Water Shared Future - ECPv6.15.20//NONSGML v1.0//EN
CALSCALE:GREGORIAN
METHOD:PUBLISH
X-WR-CALNAME:Sacred Water Shared Future
X-ORIGINAL-URL:https://sacredwatersharedfuture.org
X-WR-CALDESC:Events for Sacred Water Shared Future
REFRESH-INTERVAL;VALUE=DURATION:PT1H
X-Robots-Tag:noindex
X-PUBLISHED-TTL:PT1H
BEGIN:VTIMEZONE
TZID:America/Chicago
BEGIN:DAYLIGHT
TZOFFSETFROM:-0600
TZOFFSETTO:-0500
TZNAME:CDT
DTSTART:20250309T080000
END:DAYLIGHT
BEGIN:STANDARD
TZOFFSETFROM:-0500
TZOFFSETTO:-0600
TZNAME:CST
DTSTART:20251102T070000
END:STANDARD
BEGIN:DAYLIGHT
TZOFFSETFROM:-0600
TZOFFSETTO:-0500
TZNAME:CDT
DTSTART:20260308T080000
END:DAYLIGHT
BEGIN:STANDARD
TZOFFSETFROM:-0500
TZOFFSETTO:-0600
TZNAME:CST
DTSTART:20261101T070000
END:STANDARD
BEGIN:DAYLIGHT
TZOFFSETFROM:-0600
TZOFFSETTO:-0500
TZNAME:CDT
DTSTART:20270314T080000
END:DAYLIGHT
BEGIN:STANDARD
TZOFFSETFROM:-0500
TZOFFSETTO:-0600
TZNAME:CST
DTSTART:20271107T070000
END:STANDARD
END:VTIMEZONE
BEGIN:VEVENT
DTSTART;TZID=America/Chicago:20260214T130000
DTEND;TZID=America/Chicago:20260214T143000
DTSTAMP:20260421T202347
CREATED:20260109T205511Z
LAST-MODIFIED:20260109T205511Z
UID:10000128-1771074000-1771079400@sacredwatersharedfuture.org
SUMMARY:How do we move through this?
DESCRIPTION:Step onto the ice. Join a movement of repair across Silverwood’s frozen lake. This Valentine’s Day\, interdisciplinary artist and choreographer Victoria Bradford Styrbicki will perform a semaphore-inspired dance in an in response to the distress of our waterways — sending signals that ask: How do we move through this? Come witness and receive these messages\, and signal back with hope and care.
URL:https://sacredwatersharedfuture.org/event/how-do-we-move-through-this/
LOCATION:Silverwood Park\, 2500 County Road E\, St. Anthony\, MN\, 55421\, United States
ATTACH;FMTTYPE=image/jpeg:https://sacredwatersharedfuture.org/wp-content/uploads/2026/01/MNV2y5fqhlYr-Frozen-Lake.jpg
ORGANIZER;CN="A House Unbuilt":MAILTO:victoria@ahouseunbuilt.com
GEO:45.0466605;-93.2246909
X-APPLE-STRUCTURED-LOCATION;VALUE=URI;X-ADDRESS=Silverwood Park 2500 County Road E St. Anthony MN 55421 United States;X-APPLE-RADIUS=500;X-TITLE=2500 County Road E:geo:-93.2246909,45.0466605
END:VEVENT
END:VCALENDAR