BEGIN:VCALENDAR
VERSION:2.0
PRODID:-//Sacred Water Shared Future - ECPv6.15.20//NONSGML v1.0//EN
CALSCALE:GREGORIAN
METHOD:PUBLISH
X-ORIGINAL-URL:https://sacredwatersharedfuture.org
X-WR-CALDESC:Events for Sacred Water Shared Future
REFRESH-INTERVAL;VALUE=DURATION:PT1H
X-Robots-Tag:noindex
X-PUBLISHED-TTL:PT1H
BEGIN:VTIMEZONE
TZID:America/Chicago
BEGIN:DAYLIGHT
TZOFFSETFROM:-0600
TZOFFSETTO:-0500
TZNAME:CDT
DTSTART:20250309T080000
END:DAYLIGHT
BEGIN:STANDARD
TZOFFSETFROM:-0500
TZOFFSETTO:-0600
TZNAME:CST
DTSTART:20251102T070000
END:STANDARD
BEGIN:DAYLIGHT
TZOFFSETFROM:-0600
TZOFFSETTO:-0500
TZNAME:CDT
DTSTART:20260308T080000
END:DAYLIGHT
BEGIN:STANDARD
TZOFFSETFROM:-0500
TZOFFSETTO:-0600
TZNAME:CST
DTSTART:20261101T070000
END:STANDARD
BEGIN:DAYLIGHT
TZOFFSETFROM:-0600
TZOFFSETTO:-0500
TZNAME:CDT
DTSTART:20270314T080000
END:DAYLIGHT
BEGIN:STANDARD
TZOFFSETFROM:-0500
TZOFFSETTO:-0600
TZNAME:CST
DTSTART:20271107T070000
END:STANDARD
END:VTIMEZONE
BEGIN:VEVENT
DTSTART;TZID=America/Chicago:20260314T160000
DTEND;TZID=America/Chicago:20260314T180000
DTSTAMP:20260421T183522
CREATED:20260120T180717Z
LAST-MODIFIED:20260120T180717Z
UID:10000152-1773504000-1773511200@sacredwatersharedfuture.org
SUMMARY:Where There is Water: Closing Reception
DESCRIPTION:Where There Is Water showcases paintings\, prints\, and drawings developed through repeated travel to Duluth\, Red Wing\, and Banning State Park near Sandstone. These locations — each shaped by different moments in Minnesota’s industrial history — are connected by rivers and lakes whose presence enabled movement\, industry\, and settlement while leaving lasting marks on the surrounding landscape. \nAcross seasons and multiple visits\, Hanlon observed\, photographed\, and created work on site. The resulting pieces reflect both the layered timelines of these places and her embodied experience of encountering them in the present moment. Familiar structures reappear throughout the exhibition: the historic lighthouse along the Lake Superior shipping canal\, boathouses along the Mississippi River in Red Wing\, and the remains of a Power House in a former sandstone quarry on the Kettle River. \nThe exhibition includes large- and medium-scale oil paintings on canvas and wood\, oil studies on Arches paper\, linocut and collagraph prints\, and a collection of colored pencil studies. Rather than document a single view\, the works speak together — holding multiple moments at once and mirroring the way places are understood through memory\, repetition\, and attentive noticing. As the pilot project for the Curatorial Incubator\, Hanlon’s exhibition also includes public programs intended to bring community members into dialogue with the work and with the landscapes that shape our region. \nEVENTS\nOpening Reception: Friday\, February 13\, 6:00 – 8:00 pm \nArtist Talk: Sunday\, March 1\, 2:00 – 3:00 pm \nClosing Reception: Saturday\, March 14\, 4:00 – 6:00 pm \nGALLERY HOURS\nThursday\, Friday\, and Sunday\, 11:00 am – 6:00 pm
URL:https://sacredwatersharedfuture.org/event/where-there-is-water-closing-reception/
LOCATION:A House Unbuilt\, 321 Main St S\, Ste 204\, Stillwater\, MN\, 55082\, United States
ATTACH;FMTTYPE=image/jpeg:https://sacredwatersharedfuture.org/wp-content/uploads/2026/01/YiqidgACJoZP-Cold-Walk-in-the-Sun_Oil-on-Canvas-2048x1833-1.jpg
ORGANIZER;CN="A House Unbuilt":MAILTO:victoria@ahouseunbuilt.com
GEO:45.0544474;-92.8048155
X-APPLE-STRUCTURED-LOCATION;VALUE=URI;X-ADDRESS=A House Unbuilt 321 Main St S Ste 204 Stillwater MN 55082 United States;X-APPLE-RADIUS=500;X-TITLE=321 Main St S\, Ste 204:geo:-92.8048155,45.0544474
END:VEVENT
END:VCALENDAR