BEGIN:VCALENDAR
VERSION:2.0
PRODID:-//Sacred Water Shared Future - ECPv6.15.20//NONSGML v1.0//EN
CALSCALE:GREGORIAN
METHOD:PUBLISH
X-ORIGINAL-URL:https://sacredwatersharedfuture.org
X-WR-CALDESC:Events for Sacred Water Shared Future
REFRESH-INTERVAL;VALUE=DURATION:PT1H
X-Robots-Tag:noindex
X-PUBLISHED-TTL:PT1H
BEGIN:VTIMEZONE
TZID:America/Chicago
BEGIN:DAYLIGHT
TZOFFSETFROM:-0600
TZOFFSETTO:-0500
TZNAME:CDT
DTSTART:20250309T080000
END:DAYLIGHT
BEGIN:STANDARD
TZOFFSETFROM:-0500
TZOFFSETTO:-0600
TZNAME:CST
DTSTART:20251102T070000
END:STANDARD
BEGIN:DAYLIGHT
TZOFFSETFROM:-0600
TZOFFSETTO:-0500
TZNAME:CDT
DTSTART:20260308T080000
END:DAYLIGHT
BEGIN:STANDARD
TZOFFSETFROM:-0500
TZOFFSETTO:-0600
TZNAME:CST
DTSTART:20261101T070000
END:STANDARD
BEGIN:DAYLIGHT
TZOFFSETFROM:-0600
TZOFFSETTO:-0500
TZNAME:CDT
DTSTART:20270314T080000
END:DAYLIGHT
BEGIN:STANDARD
TZOFFSETFROM:-0500
TZOFFSETTO:-0600
TZNAME:CST
DTSTART:20271107T070000
END:STANDARD
END:VTIMEZONE
BEGIN:VEVENT
DTSTART;TZID=America/Chicago:20260606T100000
DTEND;TZID=America/Chicago:20260606T120000
DTSTAMP:20260421T170012
CREATED:20260306T170313Z
LAST-MODIFIED:20260306T170313Z
UID:10000165-1780740000-1780747200@sacredwatersharedfuture.org
SUMMARY:Hastings Lock and Dam New Island Walk Along Levee
DESCRIPTION:This event will start at the Lock and Dam #2 visitor parking lot from there we will walk to the levee where the island is located. Along the way we will have two people from the Corp of Engineers talk about the restoration work in the forest next to the lock and dam. We will continue to walk to the levee and there they will tell us about the reason for the island and the engineering involved in building them. After this talk\, we will hear about the future work which is the planting of the island with native plants which will both benefit wildlife and help to stabilize the island. from there we will wall the overlook to get a view of the area from an elevated site.
URL:https://sacredwatersharedfuture.org/event/hastings-lock-and-dam-new-island-walk-along-levee/
LOCATION:U.S. Lock and Dam #2\, 951 Lock and Dam Road\, Hastings\, MN\, 55033\, United States
ATTACH;FMTTYPE=image/jpeg:https://sacredwatersharedfuture.org/wp-content/uploads/2026/03/oLM1S1aRAPR2-DSC9487_compressed_basic.jpg
ORGANIZER;CN="Hastings Environmental Protectors":MAILTO:gervkieffer@yahoo.com
GEO:44.7571102;-92.8677783
X-APPLE-STRUCTURED-LOCATION;VALUE=URI;X-ADDRESS=U.S. Lock and Dam #2 951 Lock and Dam Road Hastings MN 55033 United States;X-APPLE-RADIUS=500;X-TITLE=951 Lock and Dam Road:geo:-92.8677783,44.7571102
END:VEVENT
BEGIN:VEVENT
DTSTART;TZID=America/Chicago:20260606T133000
DTEND;TZID=America/Chicago:20260606T163000
DTSTAMP:20260421T170012
CREATED:20260417T175716Z
LAST-MODIFIED:20260417T175716Z
UID:10000191-1780752600-1780763400@sacredwatersharedfuture.org
SUMMARY:Rafting on the River (afternoon)
DESCRIPTION:Float down the Mississippi and explore the natural shoreline. Discover birds\, minnows\, mussels and more! Beginners are welcome. Participants will paddle and do some lifting with the team while guided by experienced naturalists. Safety equipment and shuttle provided. $35/person.
URL:https://sacredwatersharedfuture.org/event/rafting-on-the-river-afternoon/
LOCATION:Mississippi Gateway Regional Park\, 10360 W River Rd\, Brooklyn Park\, MN\, 55444\, United States
ATTACH;FMTTYPE=image/jpeg:https://sacredwatersharedfuture.org/wp-content/uploads/2025/12/iO9pkS6g3hoI-BYOR_IG-Post-River-is-Calling.jpg-e1776448783720.jpeg
ORGANIZER;CN="Three Rivers Park District":MAILTO:ashley.levoir@threeriversparks.org
GEO:45.1404171;-93.3127019
X-APPLE-STRUCTURED-LOCATION;VALUE=URI;X-ADDRESS=Mississippi Gateway Regional Park 10360 W River Rd Brooklyn Park MN 55444 United States;X-APPLE-RADIUS=500;X-TITLE=10360 W River Rd:geo:-93.3127019,45.1404171
END:VEVENT
BEGIN:VEVENT
DTSTART;TZID=America/Chicago:20260610T090000
DTEND;TZID=America/Chicago:20260610T120000
DTSTAMP:20260421T170012
CREATED:20260417T175908Z
LAST-MODIFIED:20260417T175953Z
UID:10000192-1781082000-1781092800@sacredwatersharedfuture.org
SUMMARY:Rafting on the River (morning)
DESCRIPTION:Float down the Mississippi and explore the natural shoreline. Discover birds\, minnows\, mussels and more! Beginners are welcome. Participants will paddle and do some lifting with the team while guided by experienced naturalists. Safety equipment and shuttle provided. $35/person.
URL:https://sacredwatersharedfuture.org/event/rafting-on-the-river-morning-2/
LOCATION:Mississippi Gateway Regional Park\, 10360 W River Rd\, Brooklyn Park\, MN\, 55444\, United States
ATTACH;FMTTYPE=image/jpeg:https://sacredwatersharedfuture.org/wp-content/uploads/2025/12/iO9pkS6g3hoI-BYOR_IG-Post-River-is-Calling.jpg-e1776448783720.jpeg
ORGANIZER;CN="Three Rivers Park District":MAILTO:ashley.levoir@threeriversparks.org
GEO:45.1404171;-93.3127019
X-APPLE-STRUCTURED-LOCATION;VALUE=URI;X-ADDRESS=Mississippi Gateway Regional Park 10360 W River Rd Brooklyn Park MN 55444 United States;X-APPLE-RADIUS=500;X-TITLE=10360 W River Rd:geo:-93.3127019,45.1404171
END:VEVENT
BEGIN:VEVENT
DTSTART;TZID=America/Chicago:20260610T133000
DTEND;TZID=America/Chicago:20260610T163000
DTSTAMP:20260421T170012
CREATED:20260417T180150Z
LAST-MODIFIED:20260417T180150Z
UID:10000193-1781098200-1781109000@sacredwatersharedfuture.org
SUMMARY:Rafting on the River (afternoon)
DESCRIPTION:Float down the Mississippi and explore the natural shoreline. Discover birds\, minnows\, mussels and more! Beginners are welcome. Participants will paddle and do some lifting with the team while guided by experienced naturalists. Safety equipment and shuttle provided. $35/person.
URL:https://sacredwatersharedfuture.org/event/rafting-on-the-river-afternoon-2/
LOCATION:Mississippi Gateway Regional Park\, 10360 W River Rd\, Brooklyn Park\, MN\, 55444\, United States
ATTACH;FMTTYPE=image/jpeg:https://sacredwatersharedfuture.org/wp-content/uploads/2025/12/iO9pkS6g3hoI-BYOR_IG-Post-River-is-Calling.jpg-e1776448783720.jpeg
ORGANIZER;CN="Three Rivers Park District":MAILTO:ashley.levoir@threeriversparks.org
GEO:45.1404171;-93.3127019
X-APPLE-STRUCTURED-LOCATION;VALUE=URI;X-ADDRESS=Mississippi Gateway Regional Park 10360 W River Rd Brooklyn Park MN 55444 United States;X-APPLE-RADIUS=500;X-TITLE=10360 W River Rd:geo:-93.3127019,45.1404171
END:VEVENT
BEGIN:VEVENT
DTSTART;TZID=America/Chicago:20260611T133000
DTEND;TZID=America/Chicago:20260611T163000
DTSTAMP:20260421T170012
CREATED:20260417T180257Z
LAST-MODIFIED:20260417T180257Z
UID:10000194-1781184600-1781195400@sacredwatersharedfuture.org
SUMMARY:Rafting on the River
DESCRIPTION:Float down the Mississippi and explore the natural shoreline. Discover birds\, minnows\, mussels and more! Beginners are welcome. Participants will paddle and do some lifting with the team while guided by experienced naturalists. Safety equipment and shuttle provided. $35/person.
URL:https://sacredwatersharedfuture.org/event/rafting-on-the-river/
LOCATION:Mississippi Gateway Regional Park\, 10360 W River Rd\, Brooklyn Park\, MN\, 55444\, United States
ATTACH;FMTTYPE=image/jpeg:https://sacredwatersharedfuture.org/wp-content/uploads/2025/12/iO9pkS6g3hoI-BYOR_IG-Post-River-is-Calling.jpg-e1776448783720.jpeg
ORGANIZER;CN="Three Rivers Park District":MAILTO:ashley.levoir@threeriversparks.org
GEO:45.1404171;-93.3127019
X-APPLE-STRUCTURED-LOCATION;VALUE=URI;X-ADDRESS=Mississippi Gateway Regional Park 10360 W River Rd Brooklyn Park MN 55444 United States;X-APPLE-RADIUS=500;X-TITLE=10360 W River Rd:geo:-93.3127019,45.1404171
END:VEVENT
BEGIN:VEVENT
DTSTART;TZID=America/Chicago:20260613T100000
DTEND;TZID=America/Chicago:20260613T120000
DTSTAMP:20260421T170012
CREATED:20260417T180430Z
LAST-MODIFIED:20260417T180430Z
UID:10000195-1781344800-1781352000@sacredwatersharedfuture.org
SUMMARY:River Fishing
DESCRIPTION:Drop a line in the mighty Mississippi River to see what is biting. Learn river fishing techniques and discover which fish call this river home. Equipment\, bait and fishing license provided for the program. $8/person.
URL:https://sacredwatersharedfuture.org/event/river-fishing/
LOCATION:Mississippi Gateway Regional Park\, 10360 W River Rd\, Brooklyn Park\, MN\, 55444\, United States
ATTACH;FMTTYPE=image/jpeg:https://sacredwatersharedfuture.org/wp-content/uploads/2025/12/iO9pkS6g3hoI-BYOR_IG-Post-River-is-Calling.jpg-e1776448783720.jpeg
ORGANIZER;CN="Three Rivers Park District":MAILTO:ashley.levoir@threeriversparks.org
GEO:45.1404171;-93.3127019
X-APPLE-STRUCTURED-LOCATION;VALUE=URI;X-ADDRESS=Mississippi Gateway Regional Park 10360 W River Rd Brooklyn Park MN 55444 United States;X-APPLE-RADIUS=500;X-TITLE=10360 W River Rd:geo:-93.3127019,45.1404171
END:VEVENT
BEGIN:VEVENT
DTSTART;TZID=America/Chicago:20260614T130000
DTEND;TZID=America/Chicago:20260614T150000
DTSTAMP:20260421T170012
CREATED:20260417T180538Z
LAST-MODIFIED:20260417T180538Z
UID:10000196-1781442000-1781449200@sacredwatersharedfuture.org
SUMMARY:Drop-In Discoveries: River Critters
DESCRIPTION:Scoop for small aquatic animals along the edge of the river. Learn about what they eat\, who eats them and what they tell us about the health of the mighty Mississippi River. All ages welcome. Free.
URL:https://sacredwatersharedfuture.org/event/drop-in-discoveries-river-critters-2/
LOCATION:Mississippi Gateway Regional Park\, 10360 W River Rd\, Brooklyn Park\, MN\, 55444\, United States
ATTACH;FMTTYPE=image/jpeg:https://sacredwatersharedfuture.org/wp-content/uploads/2025/12/iO9pkS6g3hoI-BYOR_IG-Post-River-is-Calling.jpg-e1776448783720.jpeg
ORGANIZER;CN="Three Rivers Park District":MAILTO:ashley.levoir@threeriversparks.org
GEO:45.1404171;-93.3127019
X-APPLE-STRUCTURED-LOCATION;VALUE=URI;X-ADDRESS=Mississippi Gateway Regional Park 10360 W River Rd Brooklyn Park MN 55444 United States;X-APPLE-RADIUS=500;X-TITLE=10360 W River Rd:geo:-93.3127019,45.1404171
END:VEVENT
BEGIN:VEVENT
DTSTART;TZID=America/Chicago:20260617T090000
DTEND;TZID=America/Chicago:20260617T120000
DTSTAMP:20260421T170012
CREATED:20260417T180816Z
LAST-MODIFIED:20260417T180816Z
UID:10000198-1781686800-1781697600@sacredwatersharedfuture.org
SUMMARY:Rafting on the River (morning)
DESCRIPTION:Float down the Mississippi and explore the natural shoreline. Discover birds\, minnows\, mussels and more! Beginners are welcome. Participants will paddle and do some lifting with the team while guided by experienced naturalists. Safety equipment and shuttle provided. $35/person.
URL:https://sacredwatersharedfuture.org/event/rafting-on-the-river-morning-3/
LOCATION:Mississippi Gateway Regional Park\, 10360 W River Rd\, Brooklyn Park\, MN\, 55444\, United States
ATTACH;FMTTYPE=image/jpeg:https://sacredwatersharedfuture.org/wp-content/uploads/2025/12/iO9pkS6g3hoI-BYOR_IG-Post-River-is-Calling.jpg-e1776448783720.jpeg
ORGANIZER;CN="Three Rivers Park District":MAILTO:ashley.levoir@threeriversparks.org
GEO:45.1404171;-93.3127019
X-APPLE-STRUCTURED-LOCATION;VALUE=URI;X-ADDRESS=Mississippi Gateway Regional Park 10360 W River Rd Brooklyn Park MN 55444 United States;X-APPLE-RADIUS=500;X-TITLE=10360 W River Rd:geo:-93.3127019,45.1404171
END:VEVENT
BEGIN:VEVENT
DTSTART;TZID=America/Chicago:20260617T133000
DTEND;TZID=America/Chicago:20260617T163000
DTSTAMP:20260421T170012
CREATED:20260417T180646Z
LAST-MODIFIED:20260417T180646Z
UID:10000197-1781703000-1781713800@sacredwatersharedfuture.org
SUMMARY:Rafting on the River (afternoon)
DESCRIPTION:Float down the Mississippi and explore the natural shoreline. Discover birds\, minnows\, mussels and more! Beginners are welcome. Participants will paddle and do some lifting with the team while guided by experienced naturalists. Safety equipment and shuttle provided. $35/person.
URL:https://sacredwatersharedfuture.org/event/rafting-on-the-river-afternoon-3/
LOCATION:Mississippi Gateway Regional Park\, 10360 W River Rd\, Brooklyn Park\, MN\, 55444\, United States
ATTACH;FMTTYPE=image/jpeg:https://sacredwatersharedfuture.org/wp-content/uploads/2025/12/iO9pkS6g3hoI-BYOR_IG-Post-River-is-Calling.jpg-e1776448783720.jpeg
ORGANIZER;CN="Three Rivers Park District":MAILTO:ashley.levoir@threeriversparks.org
GEO:45.1404171;-93.3127019
X-APPLE-STRUCTURED-LOCATION;VALUE=URI;X-ADDRESS=Mississippi Gateway Regional Park 10360 W River Rd Brooklyn Park MN 55444 United States;X-APPLE-RADIUS=500;X-TITLE=10360 W River Rd:geo:-93.3127019,45.1404171
END:VEVENT
BEGIN:VEVENT
DTSTART;TZID=America/Chicago:20260618T090000
DTEND;TZID=America/Chicago:20260618T120000
DTSTAMP:20260421T170012
CREATED:20260417T180945Z
LAST-MODIFIED:20260417T180945Z
UID:10000199-1781773200-1781784000@sacredwatersharedfuture.org
SUMMARY:Rafting on the River
DESCRIPTION:Float down the Mississippi and explore the natural shoreline. Discover birds\, minnows\, mussels and more! Beginners are welcome. Participants will paddle and do some lifting with the team while guided by experienced naturalists. Safety equipment and shuttle provided. $35/person.
URL:https://sacredwatersharedfuture.org/event/rafting-on-the-river-2/
LOCATION:Mississippi Gateway Regional Park\, 10360 W River Rd\, Brooklyn Park\, MN\, 55444\, United States
ORGANIZER;CN="Three Rivers Park District":MAILTO:ashley.levoir@threeriversparks.org
GEO:45.1404171;-93.3127019
X-APPLE-STRUCTURED-LOCATION;VALUE=URI;X-ADDRESS=Mississippi Gateway Regional Park 10360 W River Rd Brooklyn Park MN 55444 United States;X-APPLE-RADIUS=500;X-TITLE=10360 W River Rd:geo:-93.3127019,45.1404171
END:VEVENT
BEGIN:VEVENT
DTSTART;TZID=America/Chicago:20260620T090000
DTEND;TZID=America/Chicago:20260620T120000
DTSTAMP:20260421T170012
CREATED:20260417T181045Z
LAST-MODIFIED:20260417T181045Z
UID:10000200-1781946000-1781956800@sacredwatersharedfuture.org
SUMMARY:Rafting on the River
DESCRIPTION:Float down the Mississippi and explore the natural shoreline. Discover birds\, minnows\, mussels and more! Beginners are welcome. Participants will paddle and do some lifting with the team while guided by experienced naturalists. Safety equipment and shuttle provided. $35/person.
URL:https://sacredwatersharedfuture.org/event/rafting-on-the-river-3/
LOCATION:Mississippi Gateway Regional Park\, 10360 W River Rd\, Brooklyn Park\, MN\, 55444\, United States
ATTACH;FMTTYPE=image/jpeg:https://sacredwatersharedfuture.org/wp-content/uploads/2025/12/iO9pkS6g3hoI-BYOR_IG-Post-River-is-Calling.jpg-e1776448783720.jpeg
ORGANIZER;CN="Three Rivers Park District":MAILTO:ashley.levoir@threeriversparks.org
GEO:45.1404171;-93.3127019
X-APPLE-STRUCTURED-LOCATION;VALUE=URI;X-ADDRESS=Mississippi Gateway Regional Park 10360 W River Rd Brooklyn Park MN 55444 United States;X-APPLE-RADIUS=500;X-TITLE=10360 W River Rd:geo:-93.3127019,45.1404171
END:VEVENT
BEGIN:VEVENT
DTSTART;TZID=America/Chicago:20260623T170000
DTEND;TZID=America/Chicago:20260623T200000
DTSTAMP:20260421T170012
CREATED:20260417T181228Z
LAST-MODIFIED:20260417T181228Z
UID:10000201-1782234000-1782244800@sacredwatersharedfuture.org
SUMMARY:Mississippi Muse: Invasive Plants & Cattail Basket
DESCRIPTION:The Mississippi Muse series explores different aspects of the Mississippi River through a scientific and creative lens. In June\, deepen your understanding of the importance of the plants along the river way and the impact of invasive plants on this ecosystem. Investigate these impacts firsthand\, then collect some of overabundant cattails to weave into a small basket and decorate it using buckthorn ink. $20/person.
URL:https://sacredwatersharedfuture.org/event/mississippi-muse-invasive-plants-cattail-basket/
LOCATION:Mississippi Gateway Regional Park\, 10360 W River Rd\, Brooklyn Park\, MN\, 55444\, United States
ATTACH;FMTTYPE=image/jpeg:https://sacredwatersharedfuture.org/wp-content/uploads/2025/12/iO9pkS6g3hoI-BYOR_IG-Post-River-is-Calling.jpg-e1776448783720.jpeg
ORGANIZER;CN="Three Rivers Park District":MAILTO:ashley.levoir@threeriversparks.org
GEO:45.1404171;-93.3127019
X-APPLE-STRUCTURED-LOCATION;VALUE=URI;X-ADDRESS=Mississippi Gateway Regional Park 10360 W River Rd Brooklyn Park MN 55444 United States;X-APPLE-RADIUS=500;X-TITLE=10360 W River Rd:geo:-93.3127019,45.1404171
END:VEVENT
BEGIN:VEVENT
DTSTART;TZID=America/Chicago:20260626T090000
DTEND;TZID=America/Chicago:20260626T120000
DTSTAMP:20260421T170012
CREATED:20260417T181349Z
LAST-MODIFIED:20260417T181349Z
UID:10000202-1782464400-1782475200@sacredwatersharedfuture.org
SUMMARY:Rafting on the River for Adults
DESCRIPTION:Float down the Mississippi and explore the natural shoreline. Discover birds\, minnows\, mussels and more! Beginners are welcome. Participants will paddle and do some lifting with the team while guided by experienced naturalists. Safety equipment and shuttle provided. $35/person.
URL:https://sacredwatersharedfuture.org/event/rafting-on-the-river-for-adults/
LOCATION:Mississippi Gateway Regional Park\, 10360 W River Rd\, Brooklyn Park\, MN\, 55444\, United States
ATTACH;FMTTYPE=image/jpeg:https://sacredwatersharedfuture.org/wp-content/uploads/2025/12/iO9pkS6g3hoI-BYOR_IG-Post-River-is-Calling.jpg-e1776448783720.jpeg
ORGANIZER;CN="Three Rivers Park District":MAILTO:ashley.levoir@threeriversparks.org
GEO:45.1404171;-93.3127019
X-APPLE-STRUCTURED-LOCATION;VALUE=URI;X-ADDRESS=Mississippi Gateway Regional Park 10360 W River Rd Brooklyn Park MN 55444 United States;X-APPLE-RADIUS=500;X-TITLE=10360 W River Rd:geo:-93.3127019,45.1404171
END:VEVENT
BEGIN:VEVENT
DTSTART;TZID=America/Chicago:20260627T100000
DTEND;TZID=America/Chicago:20260627T120000
DTSTAMP:20260421T170012
CREATED:20260417T181618Z
LAST-MODIFIED:20260417T181618Z
UID:10000204-1782554400-1782561600@sacredwatersharedfuture.org
SUMMARY:River Rock Art
DESCRIPTION:Let rocks inspire your art and learn about them while you’re at it. Look for rocks along the banks of the Mississippi River (you can bring your own\, too). You can use our lapidary equipment to cut rocks\, use special bits in our rotary tools to etch or carve rocks and then paint them. Turn rocks into jewelry with wire or use them as “paint” to make ephemeral art. Your imagination is the limit! $6/person.
URL:https://sacredwatersharedfuture.org/event/river-rock-art/
LOCATION:Mississippi Gateway Regional Park\, 10360 W River Rd\, Brooklyn Park\, MN\, 55444\, United States
ATTACH;FMTTYPE=image/jpeg:https://sacredwatersharedfuture.org/wp-content/uploads/2025/12/iO9pkS6g3hoI-BYOR_IG-Post-River-is-Calling.jpg-e1776448783720.jpeg
ORGANIZER;CN="Three Rivers Park District":MAILTO:ashley.levoir@threeriversparks.org
GEO:45.1404171;-93.3127019
X-APPLE-STRUCTURED-LOCATION;VALUE=URI;X-ADDRESS=Mississippi Gateway Regional Park 10360 W River Rd Brooklyn Park MN 55444 United States;X-APPLE-RADIUS=500;X-TITLE=10360 W River Rd:geo:-93.3127019,45.1404171
END:VEVENT
BEGIN:VEVENT
DTSTART;TZID=America/Chicago:20260627T100000
DTEND;TZID=America/Chicago:20260627T140000
DTSTAMP:20260421T170012
CREATED:20251126T181636Z
LAST-MODIFIED:20251126T181730Z
UID:10000006-1782554400-1782568800@sacredwatersharedfuture.org
SUMMARY:River Park Fest
DESCRIPTION:Recreate with us! Bike\, paddle\, walk\, or drive to River Park on June 27 for a day of fun for the whole family. This event features nature activities and community resources for recreating all summer long. Walk the trail to explore our Discovery Stations\, enjoy a bite to eat at a local food truck\, or browse our community resource fair. \nLearn more: https://www.brooklynpark.org/event/river-park-fest/
URL:https://sacredwatersharedfuture.org/event/river-park-fest/
LOCATION:River Park\, 101 83rd Ave. N.\, Brooklyn Park\, MN\, 55444\, United States
ATTACH;FMTTYPE=image/png:https://sacredwatersharedfuture.org/wp-content/uploads/2025/11/YH6I21jHyrc2-River-Park-Fest-Kayaking.png
ORGANIZER;CN="City of Brooklyn Park":MAILTO:amanda.beisch@brooklynpark.org
GEO:45.1030355;-93.2811224
X-APPLE-STRUCTURED-LOCATION;VALUE=URI;X-ADDRESS=River Park 101 83rd Ave. N. Brooklyn Park MN 55444 United States;X-APPLE-RADIUS=500;X-TITLE=101 83rd Ave. N.:geo:-93.2811224,45.1030355
END:VEVENT
BEGIN:VEVENT
DTSTART;TZID=America/Chicago:20260627T133000
DTEND;TZID=America/Chicago:20260627T163000
DTSTAMP:20260421T170012
CREATED:20260417T181459Z
LAST-MODIFIED:20260417T181459Z
UID:10000203-1782567000-1782577800@sacredwatersharedfuture.org
SUMMARY:Rafting on the River (afternoon)
DESCRIPTION:Float down the Mississippi and explore the natural shoreline. Discover birds\, minnows\, mussels and more! Beginners are welcome. Participants will paddle and do some lifting with the team while guided by experienced naturalists. Safety equipment and shuttle provided. $35/person.
URL:https://sacredwatersharedfuture.org/event/rafting-on-the-river-afternoon-4/
LOCATION:Mississippi Gateway Regional Park\, 10360 W River Rd\, Brooklyn Park\, MN\, 55444\, United States
ATTACH;FMTTYPE=image/jpeg:https://sacredwatersharedfuture.org/wp-content/uploads/2025/12/iO9pkS6g3hoI-BYOR_IG-Post-River-is-Calling.jpg-e1776448783720.jpeg
ORGANIZER;CN="Three Rivers Park District":MAILTO:ashley.levoir@threeriversparks.org
GEO:45.1404171;-93.3127019
X-APPLE-STRUCTURED-LOCATION;VALUE=URI;X-ADDRESS=Mississippi Gateway Regional Park 10360 W River Rd Brooklyn Park MN 55444 United States;X-APPLE-RADIUS=500;X-TITLE=10360 W River Rd:geo:-93.3127019,45.1404171
END:VEVENT
BEGIN:VEVENT
DTSTART;TZID=America/Chicago:20260627T140000
DTEND;TZID=America/Chicago:20260627T150000
DTSTAMP:20260421T170012
CREATED:20260417T175026Z
LAST-MODIFIED:20260417T175026Z
UID:10000188-1782568800-1782572400@sacredwatersharedfuture.org
SUMMARY:Friends & Family Log Rolling
DESCRIPTION:Rooted in the history of the logging era on the Mississippi\, and other Minnesota rivers\, log rolling is both safe and fun. Join Outdoor Recreation School instructors to learn this exciting sport! Test your new skills while “competing” against other participants. No previous experience is needed. $6/person.
URL:https://sacredwatersharedfuture.org/event/friends-family-log-rolling/
LOCATION:Baker Park Reserve\, 2309 County Road 19\, Maple Plain\, MN\, 55359\, United States
ATTACH;FMTTYPE=image/jpeg:https://sacredwatersharedfuture.org/wp-content/uploads/2025/12/iO9pkS6g3hoI-BYOR_IG-Post-River-is-Calling.jpg-e1776448783720.jpeg
ORGANIZER;CN="Three Rivers Park District":MAILTO:ashley.levoir@threeriversparks.org
GEO:45.017471;-93.6353701
X-APPLE-STRUCTURED-LOCATION;VALUE=URI;X-ADDRESS=Baker Park Reserve 2309 County Road 19 Maple Plain MN 55359 United States;X-APPLE-RADIUS=500;X-TITLE=2309 County Road 19:geo:-93.6353701,45.017471
END:VEVENT
BEGIN:VEVENT
DTSTART;TZID=America/Chicago:20260628T140000
DTEND;TZID=America/Chicago:20260628T153000
DTSTAMP:20260421T170012
CREATED:20260417T175318Z
LAST-MODIFIED:20260417T175318Z
UID:10000189-1782655200-1782660600@sacredwatersharedfuture.org
SUMMARY:Friends & Family Log Rolling
DESCRIPTION:Rooted in the history of the logging era on the Mississippi\, and other Minnesota rivers\, log rolling is both safe and fun. Join the Outdoor Recreation School instructors to learn this exciting sport! Test your new skills while “competing” against other participants! No previous experience is needed. $6/person.
URL:https://sacredwatersharedfuture.org/event/friends-family-log-rolling-2/
LOCATION:Cleary Lake Regional Park\, 18106 Texas Avenue\, Prior Lake\, MN\, 55372\, United States
ATTACH;FMTTYPE=image/jpeg:https://sacredwatersharedfuture.org/wp-content/uploads/2025/12/iO9pkS6g3hoI-BYOR_IG-Post-River-is-Calling.jpg-e1776448783720.jpeg
ORGANIZER;CN="Three Rivers Park District":MAILTO:ashley.levoir@threeriversparks.org
GEO:44.6892779;-93.3855078
X-APPLE-STRUCTURED-LOCATION;VALUE=URI;X-ADDRESS=Cleary Lake Regional Park 18106 Texas Avenue Prior Lake MN 55372 United States;X-APPLE-RADIUS=500;X-TITLE=18106 Texas Avenue:geo:-93.3855078,44.6892779
END:VEVENT
BEGIN:VEVENT
DTSTART;TZID=America/Chicago:20260913T120000
DTEND;TZID=America/Chicago:20260913T160000
DTSTAMP:20260421T170012
CREATED:20250924T180541Z
LAST-MODIFIED:20260311T191339Z
UID:10000002-1789300800-1789315200@sacredwatersharedfuture.org
SUMMARY:Longfellow River Gorge Festival
DESCRIPTION:The Longfellow River Gorge festival is one of Longfellow Community Council’s longest running annual events. Each fall we honor and celebrate the Mississippi River\, its history\, and its vital ongoing importance to humans and wildlife. The festival educates the community about the River’s functions and ecology in a fun and approachable way\, focusing on restoration and conservation. Each year features organized canoe rides on the river\, guided tours and hikes\, ice cream\, music\, and many organizations sharing about their work — all FREE!
URL:https://sacredwatersharedfuture.org/event/longfellow-river-gorge-festival/
LOCATION:Mississippi Gorge Regional Park\, 3349 West River Parkway\, Minneapolis\, MN\, 55406\, United States
ATTACH;FMTTYPE=image/jpeg:https://sacredwatersharedfuture.org/wp-content/uploads/2025/09/lrow10VJxcoT-B237ED3B-85FE-442A-8FB1-A3FB3FE8CFA2_1_102_o-e1773256467949.jpeg
GEO:44.937469779996;-93.205170700568
X-APPLE-STRUCTURED-LOCATION;VALUE=URI;X-ADDRESS=Mississippi Gorge Regional Park 3349 West River Parkway Minneapolis MN 55406 United States;X-APPLE-RADIUS=500;X-TITLE=3349 West River Parkway:geo:-93.205170700568,44.937469779996
END:VEVENT
BEGIN:VEVENT
DTSTART;TZID=America/Chicago:20260919T100000
DTEND;TZID=America/Chicago:20260919T130000
DTSTAMP:20260421T170012
CREATED:20260309T142003Z
LAST-MODIFIED:20260309T142118Z
UID:10000166-1789812000-1789822800@sacredwatersharedfuture.org
SUMMARY:Community Watershed Celebration & Bird Festival
DESCRIPTION:Each year\, Brown’s Creek Watershed District Partners with Sustainable Stillwater MN and their Bird City Group to put on a community event\, bringing in community members to celebrate and learn more about the watershed. This event\, taking place in Stillwater\, brings in partners and volunteers to table about different environmental topics including water quality\, macroinvertebrates\, native plants\, and fish and wildlife. It is a family friendly event with games\, crafts\, free ice cream\, and live music as well. \nThis event celebrates the Brown’s Creek Watershed\, and Brown’s Creek flows to the St. Croix River\, which flows to the Mississippi River. The activities and partners represent environmental education that is applicable to all of the metro area.
URL:https://sacredwatersharedfuture.org/event/community-watershed-celebration-bird-festival/
LOCATION:Brown’s Creek Park\, 8312 Neal Ave N\, Stillwater\, MN\, 55082\, United States
ATTACH;FMTTYPE=image/jpeg:https://sacredwatersharedfuture.org/wp-content/uploads/2026/03/6Jq019zGm4kR-IMG_1365-e1773065994916.jpg
ORGANIZER;CN="Brown's Creek Watershed District":MAILTO:hpeterson@mnwcd.org
GEO:45.0695654;-92.8445612
X-APPLE-STRUCTURED-LOCATION;VALUE=URI;X-ADDRESS=Brown’s Creek Park 8312 Neal Ave N Stillwater MN 55082 United States;X-APPLE-RADIUS=500;X-TITLE=8312 Neal Ave N:geo:-92.8445612,45.0695654
END:VEVENT
END:VCALENDAR