BEGIN:VCALENDAR
VERSION:2.0
PRODID:-//Sacred Water Shared Future - ECPv6.15.20//NONSGML v1.0//EN
CALSCALE:GREGORIAN
METHOD:PUBLISH
X-WR-CALNAME:Sacred Water Shared Future
X-ORIGINAL-URL:https://sacredwatersharedfuture.org
X-WR-CALDESC:Events for Sacred Water Shared Future
REFRESH-INTERVAL;VALUE=DURATION:PT1H
X-Robots-Tag:noindex
X-PUBLISHED-TTL:PT1H
BEGIN:VTIMEZONE
TZID:America/Chicago
BEGIN:DAYLIGHT
TZOFFSETFROM:-0600
TZOFFSETTO:-0500
TZNAME:CDT
DTSTART:20250309T080000
END:DAYLIGHT
BEGIN:STANDARD
TZOFFSETFROM:-0500
TZOFFSETTO:-0600
TZNAME:CST
DTSTART:20251102T070000
END:STANDARD
BEGIN:DAYLIGHT
TZOFFSETFROM:-0600
TZOFFSETTO:-0500
TZNAME:CDT
DTSTART:20260308T080000
END:DAYLIGHT
BEGIN:STANDARD
TZOFFSETFROM:-0500
TZOFFSETTO:-0600
TZNAME:CST
DTSTART:20261101T070000
END:STANDARD
BEGIN:DAYLIGHT
TZOFFSETFROM:-0600
TZOFFSETTO:-0500
TZNAME:CDT
DTSTART:20270314T080000
END:DAYLIGHT
BEGIN:STANDARD
TZOFFSETFROM:-0500
TZOFFSETTO:-0600
TZNAME:CST
DTSTART:20271107T070000
END:STANDARD
END:VTIMEZONE
BEGIN:VEVENT
DTSTART;TZID=America/Chicago:20260124T100000
DTEND;TZID=America/Chicago:20260124T160000
DTSTAMP:20260422T024637
CREATED:20251217T203846Z
LAST-MODIFIED:20251219T185252Z
UID:10000012-1769248800-1769270400@sacredwatersharedfuture.org
SUMMARY:Sacred Water Shared Future Shanty at Art Shanty Projects 2026
DESCRIPTION:Art Shanty Projects intentionally creates an impermanent art village on Minnesota lake ice amid changing climate and environment. With a spirit of embracing challenges through creativity\, we support an ecosystem that inspires everyone to create and participate in art\, thrive in winter\, and build community. \nThis year\, visit the Sacred Water Shared Future Shanty: \nIs the Mississippi cleaner than it was 100 years ago? In 1926 the river was effectively dead — a water study found only three living fish in the region’s 50 miles of river. One hundred years later\, we stand on Bdé Umáŋ to celebrate the impact of the Mississippi and the collective action and continued commitment to protect and restore. Enter our immersive river world to share what the Mississippi means to you. Populate the water with your own fish and learn more about the history of this vital waterway. \nJANUARY 17 – FEBRUARY 8\, 2026\nWEEKENDS\, 10AM – 4PM\nBDé UMáŋ / LAKE HARRIET\, MPLS
URL:https://sacredwatersharedfuture.org/event/sacred-water-shared-future-shanty-at-art-shanty-projects-2026/2026-01-24/
LOCATION:Lake Harriet Park\, 4135 W Lake Harriet Parkway\, Minneapolis\, MN\, 55409\, United States
ATTACH;FMTTYPE=image/jpeg:https://sacredwatersharedfuture.org/wp-content/uploads/2025/12/KHxc3ze1QQ5B-SacredWaterSharedFuture_image1_ASP2025.jpg
ORGANIZER;CN="Art Shanty Projects":MAILTO:info@artshantyprojects.org
GEO:44.9281396;-93.3077295
X-APPLE-STRUCTURED-LOCATION;VALUE=URI;X-ADDRESS=Lake Harriet Park 4135 W Lake Harriet Parkway Minneapolis MN 55409 United States;X-APPLE-RADIUS=500;X-TITLE=4135 W Lake Harriet Parkway:geo:-93.3077295,44.9281396
END:VEVENT
BEGIN:VEVENT
DTSTART;TZID=America/Chicago:20260120T180000
DTEND;TZID=America/Chicago:20260120T193000
DTSTAMP:20260422T024637
CREATED:20260115T135634Z
LAST-MODIFIED:20260115T135634Z
UID:10000135-1768932000-1768937400@sacredwatersharedfuture.org
SUMMARY:Open House: North Mississippi Regional Park Improvements
DESCRIPTION:MPRB Open House for the North Mississippi Regional Park Improvements\nJan. 20\, 6-7:30 pm\nWebber Recreation Center Multipurpose Room\n4400 Dupont Ave N\, Mpls
URL:https://sacredwatersharedfuture.org/event/open-house-north-mississippi-regional-park-improvements/
LOCATION:Webber Community Center\, 4400 Dupont Ave N\, Minneapolis\, MN\, 55412\, United States
ORGANIZER;CN="Minneapolis Park and Recreation Board":MAILTO:aschilling@minneapolisparks.org
GEO:45.0343252;-93.2930949
X-APPLE-STRUCTURED-LOCATION;VALUE=URI;X-ADDRESS=Webber Community Center 4400 Dupont Ave N Minneapolis MN 55412 United States;X-APPLE-RADIUS=500;X-TITLE=4400 Dupont Ave N:geo:-93.2930949,45.0343252
END:VEVENT
BEGIN:VEVENT
DTSTART;TZID=America/Chicago:20260119T110000
DTEND;TZID=America/Chicago:20260119T123000
DTSTAMP:20260422T024637
CREATED:20260114T170821Z
LAST-MODIFIED:20260114T170902Z
UID:10000133-1768820400-1768825800@sacredwatersharedfuture.org
SUMMARY:Native Seed Cleaning/ Processing
DESCRIPTION:Join a network of area native pollinator plant enthusiasts and to assist with seed cleaning at the Great River Greening garage (indoors). \nSeed heads of 130 species native pollinator plants were collected during fall community seed collecting events. Join Great River Greening\, Hamline Midway Environmental Committee and MN SEED to help clean and package this community seed stock! \nParticipants will gain practical seed saving skills such as seed cleaning\, seed storage\, and seed starting. The resulting processed native pollinator plant seeds will be used in upcoming MN SEED and Bee Line activities and will be made available at community events throughout the year! \nThis is a family-friendly event. Volunteers of all ages and backgrounds are encouraged to attend. No previous knowledge or experience is necessary\, we will provide the training and any tools required. \nAll are welcome\, any necessary training will be provided. \nOnce you have registered through GivePulse\, organizers from Great River Greening will approve your registration and you will receive confirmation. You will continue to receive event reminders as the event nears. If you have further questions\, please contact vberrueta@greatrivergreening.org
URL:https://sacredwatersharedfuture.org/event/native-seed-cleaning-processing/
LOCATION:GRG Field Operations\, 1736 Thomas Ave. W.\, Saint Paul\, MN\, 55107\, United States
ATTACH;FMTTYPE=image/jpeg:https://sacredwatersharedfuture.org/wp-content/uploads/2026/01/93FyTVWSBzmz-GRG-Logo-cropped.jpg
ORGANIZER;CN="Great River Greening":MAILTO:jdrummond@greatrivergreening.org
GEO:44.9589607;-93.1735732
X-APPLE-STRUCTURED-LOCATION;VALUE=URI;X-ADDRESS=GRG Field Operations 1736 Thomas Ave. W. Saint Paul MN 55107 United States;X-APPLE-RADIUS=500;X-TITLE=1736 Thomas Ave. W.:geo:-93.1735732,44.9589607
END:VEVENT
BEGIN:VEVENT
DTSTART;TZID=America/Chicago:20260118T100000
DTEND;TZID=America/Chicago:20260118T160000
DTSTAMP:20260422T024637
CREATED:20251217T203846Z
LAST-MODIFIED:20251219T185252Z
UID:10000011-1768730400-1768752000@sacredwatersharedfuture.org
SUMMARY:Sacred Water Shared Future Shanty at Art Shanty Projects 2026
DESCRIPTION:Art Shanty Projects intentionally creates an impermanent art village on Minnesota lake ice amid changing climate and environment. With a spirit of embracing challenges through creativity\, we support an ecosystem that inspires everyone to create and participate in art\, thrive in winter\, and build community. \nThis year\, visit the Sacred Water Shared Future Shanty: \nIs the Mississippi cleaner than it was 100 years ago? In 1926 the river was effectively dead — a water study found only three living fish in the region’s 50 miles of river. One hundred years later\, we stand on Bdé Umáŋ to celebrate the impact of the Mississippi and the collective action and continued commitment to protect and restore. Enter our immersive river world to share what the Mississippi means to you. Populate the water with your own fish and learn more about the history of this vital waterway. \nJANUARY 17 – FEBRUARY 8\, 2026\nWEEKENDS\, 10AM – 4PM\nBDé UMáŋ / LAKE HARRIET\, MPLS
URL:https://sacredwatersharedfuture.org/event/sacred-water-shared-future-shanty-at-art-shanty-projects-2026/2026-01-18/
LOCATION:Lake Harriet Park\, 4135 W Lake Harriet Parkway\, Minneapolis\, MN\, 55409\, United States
ATTACH;FMTTYPE=image/jpeg:https://sacredwatersharedfuture.org/wp-content/uploads/2025/12/KHxc3ze1QQ5B-SacredWaterSharedFuture_image1_ASP2025.jpg
ORGANIZER;CN="Art Shanty Projects":MAILTO:info@artshantyprojects.org
GEO:44.9281396;-93.3077295
X-APPLE-STRUCTURED-LOCATION;VALUE=URI;X-ADDRESS=Lake Harriet Park 4135 W Lake Harriet Parkway Minneapolis MN 55409 United States;X-APPLE-RADIUS=500;X-TITLE=4135 W Lake Harriet Parkway:geo:-93.3077295,44.9281396
END:VEVENT
BEGIN:VEVENT
DTSTART;TZID=America/Chicago:20260117T100000
DTEND;TZID=America/Chicago:20260117T160000
DTSTAMP:20260422T024637
CREATED:20251217T203846Z
LAST-MODIFIED:20251219T185252Z
UID:10000007-1768644000-1768665600@sacredwatersharedfuture.org
SUMMARY:Sacred Water Shared Future Shanty at Art Shanty Projects 2026
DESCRIPTION:Art Shanty Projects intentionally creates an impermanent art village on Minnesota lake ice amid changing climate and environment. With a spirit of embracing challenges through creativity\, we support an ecosystem that inspires everyone to create and participate in art\, thrive in winter\, and build community. \nThis year\, visit the Sacred Water Shared Future Shanty: \nIs the Mississippi cleaner than it was 100 years ago? In 1926 the river was effectively dead — a water study found only three living fish in the region’s 50 miles of river. One hundred years later\, we stand on Bdé Umáŋ to celebrate the impact of the Mississippi and the collective action and continued commitment to protect and restore. Enter our immersive river world to share what the Mississippi means to you. Populate the water with your own fish and learn more about the history of this vital waterway. \nJANUARY 17 – FEBRUARY 8\, 2026\nWEEKENDS\, 10AM – 4PM\nBDé UMáŋ / LAKE HARRIET\, MPLS
URL:https://sacredwatersharedfuture.org/event/sacred-water-shared-future-shanty-at-art-shanty-projects-2026/2026-01-17/
LOCATION:Lake Harriet Park\, 4135 W Lake Harriet Parkway\, Minneapolis\, MN\, 55409\, United States
ATTACH;FMTTYPE=image/jpeg:https://sacredwatersharedfuture.org/wp-content/uploads/2025/12/KHxc3ze1QQ5B-SacredWaterSharedFuture_image1_ASP2025.jpg
ORGANIZER;CN="Art Shanty Projects":MAILTO:info@artshantyprojects.org
GEO:44.9281396;-93.3077295
X-APPLE-STRUCTURED-LOCATION;VALUE=URI;X-ADDRESS=Lake Harriet Park 4135 W Lake Harriet Parkway Minneapolis MN 55409 United States;X-APPLE-RADIUS=500;X-TITLE=4135 W Lake Harriet Parkway:geo:-93.3077295,44.9281396
END:VEVENT
BEGIN:VEVENT
DTSTART;TZID=America/Chicago:20260117T100000
DTEND;TZID=America/Chicago:20260117T153000
DTSTAMP:20260422T024637
CREATED:20260112T211548Z
LAST-MODIFIED:20260112T211731Z
UID:10000130-1768644000-1768663800@sacredwatersharedfuture.org
SUMMARY:Willow Weaving Art Making
DESCRIPTION:Come join us for a community engaged art installation project led by Stephanie Lindquist\, North Mississippi Regional Park’s artist in residence. On Sat.\, Jan. 17 and 31\, learn how to weave the willow into stars and fish that will be installed in the prairie as a sea of stars and a river of fish. No experience needed! 10 – 3:30 pm
URL:https://sacredwatersharedfuture.org/event/willow-weaving-art-making/2026-01-17/
LOCATION:Kroening Nature Center\, 4900 N Mississippi Dr\, Minneapolis\, MN\, 55430\, United States
ATTACH;FMTTYPE=image/png:https://sacredwatersharedfuture.org/wp-content/uploads/2026/01/XfpzVdPD4hbJ-Kroening-Nature-Center-Logo.png
ORGANIZER;CN="Kroening Nature Center":MAILTO:FDNorthMiss@minneapolisparks.org
GEO:45.0432892;-93.2832301
X-APPLE-STRUCTURED-LOCATION;VALUE=URI;X-ADDRESS=Kroening Nature Center 4900 N Mississippi Dr Minneapolis MN 55430 United States;X-APPLE-RADIUS=500;X-TITLE=4900 N Mississippi Dr:geo:-93.2832301,45.0432892
END:VEVENT
END:VCALENDAR