BEGIN:VCALENDAR
VERSION:2.0
PRODID:-//Sacred Water Shared Future - ECPv6.15.20//NONSGML v1.0//EN
CALSCALE:GREGORIAN
METHOD:PUBLISH
X-WR-CALNAME:Sacred Water Shared Future
X-ORIGINAL-URL:https://sacredwatersharedfuture.org
X-WR-CALDESC:Events for Sacred Water Shared Future
REFRESH-INTERVAL;VALUE=DURATION:PT1H
X-Robots-Tag:noindex
X-PUBLISHED-TTL:PT1H
BEGIN:VTIMEZONE
TZID:America/Chicago
BEGIN:DAYLIGHT
TZOFFSETFROM:-0600
TZOFFSETTO:-0500
TZNAME:CDT
DTSTART:20250309T080000
END:DAYLIGHT
BEGIN:STANDARD
TZOFFSETFROM:-0500
TZOFFSETTO:-0600
TZNAME:CST
DTSTART:20251102T070000
END:STANDARD
BEGIN:DAYLIGHT
TZOFFSETFROM:-0600
TZOFFSETTO:-0500
TZNAME:CDT
DTSTART:20260308T080000
END:DAYLIGHT
BEGIN:STANDARD
TZOFFSETFROM:-0500
TZOFFSETTO:-0600
TZNAME:CST
DTSTART:20261101T070000
END:STANDARD
BEGIN:DAYLIGHT
TZOFFSETFROM:-0600
TZOFFSETTO:-0500
TZNAME:CDT
DTSTART:20270314T080000
END:DAYLIGHT
BEGIN:STANDARD
TZOFFSETFROM:-0500
TZOFFSETTO:-0600
TZNAME:CST
DTSTART:20271107T070000
END:STANDARD
END:VTIMEZONE
BEGIN:VEVENT
DTSTART;TZID=America/Chicago:20260627T100000
DTEND;TZID=America/Chicago:20260627T140000
DTSTAMP:20260421T215626
CREATED:20251126T181636Z
LAST-MODIFIED:20251126T181730Z
UID:10000006-1782554400-1782568800@sacredwatersharedfuture.org
SUMMARY:River Park Fest
DESCRIPTION:Recreate with us! Bike\, paddle\, walk\, or drive to River Park on June 27 for a day of fun for the whole family. This event features nature activities and community resources for recreating all summer long. Walk the trail to explore our Discovery Stations\, enjoy a bite to eat at a local food truck\, or browse our community resource fair. \nLearn more: https://www.brooklynpark.org/event/river-park-fest/
URL:https://sacredwatersharedfuture.org/event/river-park-fest/
LOCATION:River Park\, 101 83rd Ave. N.\, Brooklyn Park\, MN\, 55444\, United States
ATTACH;FMTTYPE=image/png:https://sacredwatersharedfuture.org/wp-content/uploads/2025/11/YH6I21jHyrc2-River-Park-Fest-Kayaking.png
ORGANIZER;CN="City of Brooklyn Park":MAILTO:amanda.beisch@brooklynpark.org
GEO:45.1030355;-93.2811224
X-APPLE-STRUCTURED-LOCATION;VALUE=URI;X-ADDRESS=River Park 101 83rd Ave. N. Brooklyn Park MN 55444 United States;X-APPLE-RADIUS=500;X-TITLE=101 83rd Ave. N.:geo:-93.2811224,45.1030355
END:VEVENT
END:VCALENDAR