BEGIN:VCALENDAR
VERSION:2.0
PRODID:-//Sacred Water Shared Future - ECPv6.15.20//NONSGML v1.0//EN
CALSCALE:GREGORIAN
METHOD:PUBLISH
X-WR-CALNAME:Sacred Water Shared Future
X-ORIGINAL-URL:https://sacredwatersharedfuture.org
X-WR-CALDESC:Events for Sacred Water Shared Future
REFRESH-INTERVAL;VALUE=DURATION:PT1H
X-Robots-Tag:noindex
X-PUBLISHED-TTL:PT1H
BEGIN:VTIMEZONE
TZID:America/Chicago
BEGIN:DAYLIGHT
TZOFFSETFROM:-0600
TZOFFSETTO:-0500
TZNAME:CDT
DTSTART:20250309T080000
END:DAYLIGHT
BEGIN:STANDARD
TZOFFSETFROM:-0500
TZOFFSETTO:-0600
TZNAME:CST
DTSTART:20251102T070000
END:STANDARD
BEGIN:DAYLIGHT
TZOFFSETFROM:-0600
TZOFFSETTO:-0500
TZNAME:CDT
DTSTART:20260308T080000
END:DAYLIGHT
BEGIN:STANDARD
TZOFFSETFROM:-0500
TZOFFSETTO:-0600
TZNAME:CST
DTSTART:20261101T070000
END:STANDARD
BEGIN:DAYLIGHT
TZOFFSETFROM:-0600
TZOFFSETTO:-0500
TZNAME:CDT
DTSTART:20270314T080000
END:DAYLIGHT
BEGIN:STANDARD
TZOFFSETFROM:-0500
TZOFFSETTO:-0600
TZNAME:CST
DTSTART:20271107T070000
END:STANDARD
END:VTIMEZONE
BEGIN:VEVENT
DTSTART;TZID=America/Chicago:20260328T090000
DTEND;TZID=America/Chicago:20260328T100000
DTSTAMP:20260421T222712
CREATED:20251219T193953Z
LAST-MODIFIED:20251219T193953Z
UID:10000124-1774688400-1774692000@sacredwatersharedfuture.org
SUMMARY:Young Birders Club: Waterfowl
DESCRIPTION:The ice is thawing\, and birds are migrating north along the Mississippi River. This is just the right time to be out looking for ducks\, mergansers and other water birds! All materials provided.
URL:https://sacredwatersharedfuture.org/event/young-birders-club-waterfowl/
LOCATION:Mississippi Gateway Regional Park\, 10360 W River Rd\, Brooklyn Park\, MN\, 55444\, United States
ATTACH;FMTTYPE=image/jpeg:https://sacredwatersharedfuture.org/wp-content/uploads/2025/12/iO9pkS6g3hoI-BYOR_IG-Post-River-is-Calling.jpg-e1776448783720.jpeg
ORGANIZER;CN="Three Rivers Park District":MAILTO:ashley.levoir@threeriversparks.org
GEO:45.1404171;-93.3127019
X-APPLE-STRUCTURED-LOCATION;VALUE=URI;X-ADDRESS=Mississippi Gateway Regional Park 10360 W River Rd Brooklyn Park MN 55444 United States;X-APPLE-RADIUS=500;X-TITLE=10360 W River Rd:geo:-93.3127019,45.1404171
END:VEVENT
BEGIN:VEVENT
DTSTART;TZID=America/Chicago:20260125T130000
DTEND;TZID=America/Chicago:20260125T140000
DTSTAMP:20260421T222712
CREATED:20251219T194929Z
LAST-MODIFIED:20251219T194929Z
UID:10000127-1769346000-1769349600@sacredwatersharedfuture.org
SUMMARY:River Race Puzzle Showdown
DESCRIPTION:Join us for a jigsaw puzzle competition! Register in teams of up to four and race against the clock to complete a 500-piece Mississippi River-themed puzzle in two hours. Judges will track progress and prizes will be awarded to top finishers. Arrive early for check-in and rules. Reservations required by one week prior. $60/group (maximum four people). \nOnly register one person; you will be prompted to enter the number of people attending.
URL:https://sacredwatersharedfuture.org/event/river-race-puzzle-showdown/
LOCATION:Mississippi Gateway Regional Park\, 10360 W River Rd\, Brooklyn Park\, MN\, 55444\, United States
ATTACH;FMTTYPE=image/jpeg:https://sacredwatersharedfuture.org/wp-content/uploads/2025/12/iO9pkS6g3hoI-BYOR_IG-Post-River-is-Calling.jpg-e1776448783720.jpeg
ORGANIZER;CN="Three Rivers Park District":MAILTO:ashley.levoir@threeriversparks.org
GEO:45.1404171;-93.3127019
X-APPLE-STRUCTURED-LOCATION;VALUE=URI;X-ADDRESS=Mississippi Gateway Regional Park 10360 W River Rd Brooklyn Park MN 55444 United States;X-APPLE-RADIUS=500;X-TITLE=10360 W River Rd:geo:-93.3127019,45.1404171
END:VEVENT
END:VCALENDAR