BEGIN:VCALENDAR
VERSION:2.0
PRODID:-//Sacred Water Shared Future - ECPv6.15.20//NONSGML v1.0//EN
CALSCALE:GREGORIAN
METHOD:PUBLISH
X-WR-CALNAME:Sacred Water Shared Future
X-ORIGINAL-URL:https://sacredwatersharedfuture.org
X-WR-CALDESC:Events for Sacred Water Shared Future
REFRESH-INTERVAL;VALUE=DURATION:PT1H
X-Robots-Tag:noindex
X-PUBLISHED-TTL:PT1H
BEGIN:VTIMEZONE
TZID:America/Chicago
BEGIN:DAYLIGHT
TZOFFSETFROM:-0600
TZOFFSETTO:-0500
TZNAME:CDT
DTSTART:20250309T080000
END:DAYLIGHT
BEGIN:STANDARD
TZOFFSETFROM:-0500
TZOFFSETTO:-0600
TZNAME:CST
DTSTART:20251102T070000
END:STANDARD
BEGIN:DAYLIGHT
TZOFFSETFROM:-0600
TZOFFSETTO:-0500
TZNAME:CDT
DTSTART:20260308T080000
END:DAYLIGHT
BEGIN:STANDARD
TZOFFSETFROM:-0500
TZOFFSETTO:-0600
TZNAME:CST
DTSTART:20261101T070000
END:STANDARD
BEGIN:DAYLIGHT
TZOFFSETFROM:-0600
TZOFFSETTO:-0500
TZNAME:CDT
DTSTART:20270314T080000
END:DAYLIGHT
BEGIN:STANDARD
TZOFFSETFROM:-0500
TZOFFSETTO:-0600
TZNAME:CST
DTSTART:20271107T070000
END:STANDARD
END:VTIMEZONE
BEGIN:VEVENT
DTSTART;TZID=America/Chicago:20260601T000000
DTEND;TZID=America/Chicago:20260615T235959
DTSTAMP:20260421T202526
CREATED:20251103T144913Z
LAST-MODIFIED:20251103T144913Z
UID:10000004-1780272000-1781567999@sacredwatersharedfuture.org
SUMMARY:River Days of Action
DESCRIPTION:Each June 1 – 15\, individuals\, organizations\, and communities across the Mississippi River watershed come together for River Days of Action—a two-week celebration of connection\, community\, and care for the Mighty Mississippi. From the Headwaters to the Gulf\, River Days invites everyone to get involved through cleanups\, paddles\, restoration projects\, educational webinars\, community festivals\, and more. It’s a chance to experience the River firsthand\, build relationships\, and take meaningful action for our people\, land\, water\, and wildlife. \nAs we look ahead to River Days of Action 2026\, One Mississippi—a proud partner of Sacred Waters\, Shared Future 2026—invites you to get involved by exploring local events\, activities\, and opportunities to make a difference. Whether you’re hosting an event\, volunteering\, or showing up to learn\, your participation helps strengthen our collective commitment to a healthier\, more resilient Mississippi River for everyone.  \nContact info@1mississippi.org with any questions and cruise over to the River Days of Action webpage to learn more\, find events\, and discover how you can get involved!
URL:https://sacredwatersharedfuture.org/event/river-days-of-action/
ATTACH;FMTTYPE=image/png:https://sacredwatersharedfuture.org/wp-content/uploads/2025/11/RDA-events-cal-400x265px.png
ORGANIZER;CN="One Mississippi":MAILTO:info@1mississippi.org
END:VEVENT
BEGIN:VEVENT
DTSTART;TZID=America/Chicago:20260602T000000
DTEND;TZID=America/Chicago:20260602T235959
DTSTAMP:20260421T202526
CREATED:20251103T144446Z
LAST-MODIFIED:20251103T145041Z
UID:10000003-1780358400-1780444799@sacredwatersharedfuture.org
SUMMARY:National Mississippi River Day
DESCRIPTION:Every June 2\, communities across the country come together to celebrate National Mississippi River Day—a day to honor\, protect\, and connect with the lifeblood of our nation. Stretching more than 2\,300 miles and touching 32 states\, the Mississippi River sustains over 20 million people with drinking water\, fuels local economies\, and nurtures countless species of birds\, fish\, and wildlife. It’s more than a River—it’s a shared story\, flowing through our histories\, communities\, and futures. \nNational Mississippi River Day shines a spotlight on both the beauty and the challenges of this iconic waterway. From local proclamations and festivals to online events and paddles\, it’s a day for everyone—residents\, leaders\, and organizations alike—to come together in common purpose. The celebration also kicks off River Days of Action (June 1–15)\, a two-week series of events and opportunities to take action for a healthier\, more resilient Mississippi River. \nAs One Mississippi plans for National Mississippi River Day\, June 2\, 2026\, we’re proud to continue growing this national movement as a partner of Sacred Waters\, Shared Future. More events and opportunities coming soon; for now\, learn more about National Mississippi River Day here and find ways to participate and help continue to grow this new annual tradition for the River!   \nContact info@1mississippi.org with any questions.
URL:https://sacredwatersharedfuture.org/event/national-mississippi-river-day/
ATTACH;FMTTYPE=image/png:https://sacredwatersharedfuture.org/wp-content/uploads/2025/11/NMRD-events-cal-400-x-265-px.png
ORGANIZER;CN="One Mississippi":MAILTO:info@1mississippi.org
END:VEVENT
END:VCALENDAR