BEGIN:VCALENDAR
VERSION:2.0
PRODID:-//Sacred Water Shared Future - ECPv6.15.20//NONSGML v1.0//EN
CALSCALE:GREGORIAN
METHOD:PUBLISH
X-WR-CALNAME:Sacred Water Shared Future
X-ORIGINAL-URL:https://sacredwatersharedfuture.org
X-WR-CALDESC:Events for Sacred Water Shared Future
REFRESH-INTERVAL;VALUE=DURATION:PT1H
X-Robots-Tag:noindex
X-PUBLISHED-TTL:PT1H
BEGIN:VTIMEZONE
TZID:America/Chicago
BEGIN:DAYLIGHT
TZOFFSETFROM:-0600
TZOFFSETTO:-0500
TZNAME:CDT
DTSTART:20250309T080000
END:DAYLIGHT
BEGIN:STANDARD
TZOFFSETFROM:-0500
TZOFFSETTO:-0600
TZNAME:CST
DTSTART:20251102T070000
END:STANDARD
BEGIN:DAYLIGHT
TZOFFSETFROM:-0600
TZOFFSETTO:-0500
TZNAME:CDT
DTSTART:20260308T080000
END:DAYLIGHT
BEGIN:STANDARD
TZOFFSETFROM:-0500
TZOFFSETTO:-0600
TZNAME:CST
DTSTART:20261101T070000
END:STANDARD
BEGIN:DAYLIGHT
TZOFFSETFROM:-0600
TZOFFSETTO:-0500
TZNAME:CDT
DTSTART:20270314T080000
END:DAYLIGHT
BEGIN:STANDARD
TZOFFSETFROM:-0500
TZOFFSETTO:-0600
TZNAME:CST
DTSTART:20271107T070000
END:STANDARD
END:VTIMEZONE
BEGIN:VEVENT
DTSTART;TZID=America/Chicago:20260131T100000
DTEND;TZID=America/Chicago:20260131T153000
DTSTAMP:20260421T215535
CREATED:20260112T211548Z
LAST-MODIFIED:20260112T211731Z
UID:10000131-1769853600-1769873400@sacredwatersharedfuture.org
SUMMARY:Willow Weaving Art Making
DESCRIPTION:Come join us for a community engaged art installation project led by Stephanie Lindquist\, North Mississippi Regional Park’s artist in residence. On Sat.\, Jan. 17 and 31\, learn how to weave the willow into stars and fish that will be installed in the prairie as a sea of stars and a river of fish. No experience needed! 10 – 3:30 pm
URL:https://sacredwatersharedfuture.org/event/willow-weaving-art-making/2026-01-31/
LOCATION:Kroening Nature Center\, 4900 N Mississippi Dr\, Minneapolis\, MN\, 55430\, United States
ATTACH;FMTTYPE=image/png:https://sacredwatersharedfuture.org/wp-content/uploads/2026/01/XfpzVdPD4hbJ-Kroening-Nature-Center-Logo.png
ORGANIZER;CN="Kroening Nature Center":MAILTO:FDNorthMiss@minneapolisparks.org
GEO:45.0432892;-93.2832301
X-APPLE-STRUCTURED-LOCATION;VALUE=URI;X-ADDRESS=Kroening Nature Center 4900 N Mississippi Dr Minneapolis MN 55430 United States;X-APPLE-RADIUS=500;X-TITLE=4900 N Mississippi Dr:geo:-93.2832301,45.0432892
END:VEVENT
BEGIN:VEVENT
DTSTART;TZID=America/Chicago:20260131T100000
DTEND;TZID=America/Chicago:20260131T160000
DTSTAMP:20260421T215535
CREATED:20251217T203846Z
LAST-MODIFIED:20251219T185252Z
UID:10000014-1769853600-1769875200@sacredwatersharedfuture.org
SUMMARY:Sacred Water Shared Future Shanty at Art Shanty Projects 2026
DESCRIPTION:Art Shanty Projects intentionally creates an impermanent art village on Minnesota lake ice amid changing climate and environment. With a spirit of embracing challenges through creativity\, we support an ecosystem that inspires everyone to create and participate in art\, thrive in winter\, and build community. \nThis year\, visit the Sacred Water Shared Future Shanty: \nIs the Mississippi cleaner than it was 100 years ago? In 1926 the river was effectively dead — a water study found only three living fish in the region’s 50 miles of river. One hundred years later\, we stand on Bdé Umáŋ to celebrate the impact of the Mississippi and the collective action and continued commitment to protect and restore. Enter our immersive river world to share what the Mississippi means to you. Populate the water with your own fish and learn more about the history of this vital waterway. \nJANUARY 17 – FEBRUARY 8\, 2026\nWEEKENDS\, 10AM – 4PM\nBDé UMáŋ / LAKE HARRIET\, MPLS
URL:https://sacredwatersharedfuture.org/event/sacred-water-shared-future-shanty-at-art-shanty-projects-2026/2026-01-31/
LOCATION:Lake Harriet Park\, 4135 W Lake Harriet Parkway\, Minneapolis\, MN\, 55409\, United States
ATTACH;FMTTYPE=image/jpeg:https://sacredwatersharedfuture.org/wp-content/uploads/2025/12/KHxc3ze1QQ5B-SacredWaterSharedFuture_image1_ASP2025.jpg
ORGANIZER;CN="Art Shanty Projects":MAILTO:info@artshantyprojects.org
GEO:44.9281396;-93.3077295
X-APPLE-STRUCTURED-LOCATION;VALUE=URI;X-ADDRESS=Lake Harriet Park 4135 W Lake Harriet Parkway Minneapolis MN 55409 United States;X-APPLE-RADIUS=500;X-TITLE=4135 W Lake Harriet Parkway:geo:-93.3077295,44.9281396
END:VEVENT
BEGIN:VEVENT
DTSTART;TZID=America/Chicago:20260131T130000
DTEND;TZID=America/Chicago:20260131T143000
DTSTAMP:20260421T215535
CREATED:20260112T211231Z
LAST-MODIFIED:20260112T211231Z
UID:10000129-1769864400-1769869800@sacredwatersharedfuture.org
SUMMARY:Nature in Focus: The Dynamic Mississippi
DESCRIPTION:The Mississippi River is constantly changing and being changed. Dive into hands-on discovery with a model river to see how rivers shape the landscape around them. Then learn how interventions to manage erosion and navigation have affected the river’s dynamics and wildlife in the metro area and beyond. \nRegistration Required Ages 18+
URL:https://sacredwatersharedfuture.org/event/nature-in-focus-the-dynamic-mississippi/
LOCATION:Kroening Nature Center\, 4900 N Mississippi Dr\, Minneapolis\, MN\, 55430\, United States
ATTACH;FMTTYPE=image/png:https://sacredwatersharedfuture.org/wp-content/uploads/2026/01/XfpzVdPD4hbJ-Kroening-Nature-Center-Logo.png
ORGANIZER;CN="Kroening Nature Center":MAILTO:FDNorthMiss@minneapolisparks.org
GEO:45.0432892;-93.2832301
X-APPLE-STRUCTURED-LOCATION;VALUE=URI;X-ADDRESS=Kroening Nature Center 4900 N Mississippi Dr Minneapolis MN 55430 United States;X-APPLE-RADIUS=500;X-TITLE=4900 N Mississippi Dr:geo:-93.2832301,45.0432892
END:VEVENT
BEGIN:VEVENT
DTSTART;TZID=America/Chicago:20260201T100000
DTEND;TZID=America/Chicago:20260201T160000
DTSTAMP:20260421T215535
CREATED:20251217T203846Z
LAST-MODIFIED:20251219T185252Z
UID:10000015-1769940000-1769961600@sacredwatersharedfuture.org
SUMMARY:Sacred Water Shared Future Shanty at Art Shanty Projects 2026
DESCRIPTION:Art Shanty Projects intentionally creates an impermanent art village on Minnesota lake ice amid changing climate and environment. With a spirit of embracing challenges through creativity\, we support an ecosystem that inspires everyone to create and participate in art\, thrive in winter\, and build community. \nThis year\, visit the Sacred Water Shared Future Shanty: \nIs the Mississippi cleaner than it was 100 years ago? In 1926 the river was effectively dead — a water study found only three living fish in the region’s 50 miles of river. One hundred years later\, we stand on Bdé Umáŋ to celebrate the impact of the Mississippi and the collective action and continued commitment to protect and restore. Enter our immersive river world to share what the Mississippi means to you. Populate the water with your own fish and learn more about the history of this vital waterway. \nJANUARY 17 – FEBRUARY 8\, 2026\nWEEKENDS\, 10AM – 4PM\nBDé UMáŋ / LAKE HARRIET\, MPLS
URL:https://sacredwatersharedfuture.org/event/sacred-water-shared-future-shanty-at-art-shanty-projects-2026/2026-02-01/
LOCATION:Lake Harriet Park\, 4135 W Lake Harriet Parkway\, Minneapolis\, MN\, 55409\, United States
ATTACH;FMTTYPE=image/jpeg:https://sacredwatersharedfuture.org/wp-content/uploads/2025/12/KHxc3ze1QQ5B-SacredWaterSharedFuture_image1_ASP2025.jpg
ORGANIZER;CN="Art Shanty Projects":MAILTO:info@artshantyprojects.org
GEO:44.9281396;-93.3077295
X-APPLE-STRUCTURED-LOCATION;VALUE=URI;X-ADDRESS=Lake Harriet Park 4135 W Lake Harriet Parkway Minneapolis MN 55409 United States;X-APPLE-RADIUS=500;X-TITLE=4135 W Lake Harriet Parkway:geo:-93.3077295,44.9281396
END:VEVENT
BEGIN:VEVENT
DTSTART;TZID=America/Chicago:20260201T140000
DTEND;TZID=America/Chicago:20260201T150000
DTSTAMP:20260421T215535
CREATED:20251219T183139Z
LAST-MODIFIED:20251219T183444Z
UID:10000008-1769954400-1769958000@sacredwatersharedfuture.org
SUMMARY:Big Year of Rivers Speaker Series - Freshwater Mussels in the Mississippi River: A 100 Year Roller Coaster Ride
DESCRIPTION:Join us for a presentation by Jordan Holcomb — Malacologist with the Minnesota DNR. \nMinnesota is home to 51 native species of freshwater mussels that mostly live in rivers. This ecologically important group of filter feeding bottom dwellers experienced major declines in abundance and distribution in the last 100 years\, resulting in nearly half of Minnesota’s species to be listed as threatened or endangered at state or federal levels. Those declines are largely attributed to poor water quality\, over harvesting for commercial button and pearl industries\, invasive species\, and damming of rivers. Despite ongoing threats like Zebra Mussels\, clean water regulations and conservation efforts led by the Minnesota DNR and its partners have improved conditions in Minnesota’s rivers\, and some mussel populations appear to be on the rise. \nRegistration required 24 hours prior. \nMore Info >
URL:https://sacredwatersharedfuture.org/event/big-year-of-rivers-speaker-series-freshwater-mussels-in-the-mississippi-river-a-100-year-roller-coaster-ride/
LOCATION:Mississippi Gateway Regional Park\, 10360 W River Rd\, Brooklyn Park\, MN\, 55444\, United States
ATTACH;FMTTYPE=image/jpeg:https://sacredwatersharedfuture.org/wp-content/uploads/2025/12/iO9pkS6g3hoI-BYOR_IG-Post-River-is-Calling.jpg-e1776448783720.jpeg
ORGANIZER;CN="Three Rivers Park District":MAILTO:ashley.levoir@threeriversparks.org
GEO:45.1404171;-93.3127019
X-APPLE-STRUCTURED-LOCATION;VALUE=URI;X-ADDRESS=Mississippi Gateway Regional Park 10360 W River Rd Brooklyn Park MN 55444 United States;X-APPLE-RADIUS=500;X-TITLE=10360 W River Rd:geo:-93.3127019,45.1404171
END:VEVENT
END:VCALENDAR