BEGIN:VCALENDAR
VERSION:2.0
PRODID:-//Sacred Water Shared Future - ECPv6.15.20//NONSGML v1.0//EN
CALSCALE:GREGORIAN
METHOD:PUBLISH
X-ORIGINAL-URL:https://sacredwatersharedfuture.org
X-WR-CALDESC:Events for Sacred Water Shared Future
REFRESH-INTERVAL;VALUE=DURATION:PT1H
X-Robots-Tag:noindex
X-PUBLISHED-TTL:PT1H
BEGIN:VTIMEZONE
TZID:America/Chicago
BEGIN:DAYLIGHT
TZOFFSETFROM:-0600
TZOFFSETTO:-0500
TZNAME:CDT
DTSTART:20250309T080000
END:DAYLIGHT
BEGIN:STANDARD
TZOFFSETFROM:-0500
TZOFFSETTO:-0600
TZNAME:CST
DTSTART:20251102T070000
END:STANDARD
BEGIN:DAYLIGHT
TZOFFSETFROM:-0600
TZOFFSETTO:-0500
TZNAME:CDT
DTSTART:20260308T080000
END:DAYLIGHT
BEGIN:STANDARD
TZOFFSETFROM:-0500
TZOFFSETTO:-0600
TZNAME:CST
DTSTART:20261101T070000
END:STANDARD
BEGIN:DAYLIGHT
TZOFFSETFROM:-0600
TZOFFSETTO:-0500
TZNAME:CDT
DTSTART:20270314T080000
END:DAYLIGHT
BEGIN:STANDARD
TZOFFSETFROM:-0500
TZOFFSETTO:-0600
TZNAME:CST
DTSTART:20271107T070000
END:STANDARD
END:VTIMEZONE
BEGIN:VEVENT
DTSTART;TZID=America/Chicago:20260219T110000
DTEND;TZID=America/Chicago:20260219T180000
DTSTAMP:20260421T215907
CREATED:20260120T175621Z
LAST-MODIFIED:20260120T180610Z
UID:10000138-1771498800-1771524000@sacredwatersharedfuture.org
SUMMARY:Where There is Water
DESCRIPTION:Where There Is Water showcases paintings\, prints\, and drawings developed through repeated travel to Duluth\, Red Wing\, and Banning State Park near Sandstone. These locations — each shaped by different moments in Minnesota’s industrial history — are connected by rivers and lakes whose presence enabled movement\, industry\, and settlement while leaving lasting marks on the surrounding landscape. \nAcross seasons and multiple visits\, Hanlon observed\, photographed\, and created work on site. The resulting pieces reflect both the layered timelines of these places and her embodied experience of encountering them in the present moment. Familiar structures reappear throughout the exhibition: the historic lighthouse along the Lake Superior shipping canal\, boathouses along the Mississippi River in Red Wing\, and the remains of a Power House in a former sandstone quarry on the Kettle River. \nThe exhibition includes large- and medium-scale oil paintings on canvas and wood\, oil studies on Arches paper\, linocut and collagraph prints\, and a collection of colored pencil studies. Rather than document a single view\, the works speak together — holding multiple moments at once and mirroring the way places are understood through memory\, repetition\, and attentive noticing. As the pilot project for the Curatorial Incubator\, Hanlon’s exhibition also includes public programs intended to bring community members into dialogue with the work and with the landscapes that shape our region. \nEVENTS\nOpening Reception: Friday\, February 13\, 6:00 – 8:00 pm \nArtist Talk: Sunday\, March 1\, 2:00 – 3:00 pm \nClosing Reception: Saturday\, March 14\, 4:00 – 6:00 pm \nGALLERY HOURS\nThursday\, Friday\, and Sunday\, 11:00 am – 6:00 pm
URL:https://sacredwatersharedfuture.org/event/where-there-is-water/2026-02-19/
LOCATION:A House Unbuilt\, 321 Main St S\, Ste 204\, Stillwater\, MN\, 55082\, United States
ATTACH;FMTTYPE=image/jpeg:https://sacredwatersharedfuture.org/wp-content/uploads/2026/01/YiqidgACJoZP-Cold-Walk-in-the-Sun_Oil-on-Canvas-2048x1833-1.jpg
ORGANIZER;CN="A House Unbuilt":MAILTO:victoria@ahouseunbuilt.com
GEO:45.0544474;-92.8048155
X-APPLE-STRUCTURED-LOCATION;VALUE=URI;X-ADDRESS=A House Unbuilt 321 Main St S Ste 204 Stillwater MN 55082 United States;X-APPLE-RADIUS=500;X-TITLE=321 Main St S\, Ste 204:geo:-92.8048155,45.0544474
END:VEVENT
BEGIN:VEVENT
DTSTART;TZID=America/Chicago:20260220T110000
DTEND;TZID=America/Chicago:20260220T140000
DTSTAMP:20260421T215907
CREATED:20260114T171645Z
LAST-MODIFIED:20260114T171645Z
UID:10000134-1771585200-1771596000@sacredwatersharedfuture.org
SUMMARY:Creating Biochar from Waste-Wood: Demonstration of On Site Processing
DESCRIPTION:City of Brainerd and Great River Greening are partnering to host a Biochar Demonstration at Rotary Riverside Park. Live demonstration: converting buckthorn wood waste into biochar using on-site kilns. \nGRG staff will be onsite running the kiln and answer questions/educate on biochar\, its uses and how flame capped kilns work. \nGRG Staff will walk participants through the process of managing a kiln from loading to ignition to quenching. \nDemonstration will be with Big Box and Ring of Fire kilns. \nWho should attend: natural resource professionals and fire professionals (open to everyone)
URL:https://sacredwatersharedfuture.org/event/creating-biochar-from-waste-wood-demonstration-of-on-site-processing/
LOCATION:Rotary Riverside Park\, 1325 E. River Rd.\, Brainerd\, MN\, 56401\, United States
ATTACH;FMTTYPE=image/jpeg:https://sacredwatersharedfuture.org/wp-content/uploads/2026/01/93FyTVWSBzmz-GRG-Logo-cropped.jpg
ORGANIZER;CN="Great River Greening":MAILTO:jdrummond@greatrivergreening.org
GEO:46.3449873;-94.2094259
X-APPLE-STRUCTURED-LOCATION;VALUE=URI;X-ADDRESS=Rotary Riverside Park 1325 E. River Rd. Brainerd MN 56401 United States;X-APPLE-RADIUS=500;X-TITLE=1325 E. River Rd.:geo:-94.2094259,46.3449873
END:VEVENT
BEGIN:VEVENT
DTSTART;TZID=America/Chicago:20260220T110000
DTEND;TZID=America/Chicago:20260220T180000
DTSTAMP:20260421T215907
CREATED:20260120T175621Z
LAST-MODIFIED:20260120T180610Z
UID:10000139-1771585200-1771610400@sacredwatersharedfuture.org
SUMMARY:Where There is Water
DESCRIPTION:Where There Is Water showcases paintings\, prints\, and drawings developed through repeated travel to Duluth\, Red Wing\, and Banning State Park near Sandstone. These locations — each shaped by different moments in Minnesota’s industrial history — are connected by rivers and lakes whose presence enabled movement\, industry\, and settlement while leaving lasting marks on the surrounding landscape. \nAcross seasons and multiple visits\, Hanlon observed\, photographed\, and created work on site. The resulting pieces reflect both the layered timelines of these places and her embodied experience of encountering them in the present moment. Familiar structures reappear throughout the exhibition: the historic lighthouse along the Lake Superior shipping canal\, boathouses along the Mississippi River in Red Wing\, and the remains of a Power House in a former sandstone quarry on the Kettle River. \nThe exhibition includes large- and medium-scale oil paintings on canvas and wood\, oil studies on Arches paper\, linocut and collagraph prints\, and a collection of colored pencil studies. Rather than document a single view\, the works speak together — holding multiple moments at once and mirroring the way places are understood through memory\, repetition\, and attentive noticing. As the pilot project for the Curatorial Incubator\, Hanlon’s exhibition also includes public programs intended to bring community members into dialogue with the work and with the landscapes that shape our region. \nEVENTS\nOpening Reception: Friday\, February 13\, 6:00 – 8:00 pm \nArtist Talk: Sunday\, March 1\, 2:00 – 3:00 pm \nClosing Reception: Saturday\, March 14\, 4:00 – 6:00 pm \nGALLERY HOURS\nThursday\, Friday\, and Sunday\, 11:00 am – 6:00 pm
URL:https://sacredwatersharedfuture.org/event/where-there-is-water/2026-02-20/
LOCATION:A House Unbuilt\, 321 Main St S\, Ste 204\, Stillwater\, MN\, 55082\, United States
ATTACH;FMTTYPE=image/jpeg:https://sacredwatersharedfuture.org/wp-content/uploads/2026/01/YiqidgACJoZP-Cold-Walk-in-the-Sun_Oil-on-Canvas-2048x1833-1.jpg
ORGANIZER;CN="A House Unbuilt":MAILTO:victoria@ahouseunbuilt.com
GEO:45.0544474;-92.8048155
X-APPLE-STRUCTURED-LOCATION;VALUE=URI;X-ADDRESS=A House Unbuilt 321 Main St S Ste 204 Stillwater MN 55082 United States;X-APPLE-RADIUS=500;X-TITLE=321 Main St S\, Ste 204:geo:-92.8048155,45.0544474
END:VEVENT
BEGIN:VEVENT
DTSTART;TZID=America/Chicago:20260221T100000
DTEND;TZID=America/Chicago:20260221T170000
DTSTAMP:20260421T215907
CREATED:20260112T212327Z
LAST-MODIFIED:20260112T212327Z
UID:10000132-1771668000-1771693200@sacredwatersharedfuture.org
SUMMARY:Family Ice Fishing Day
DESCRIPTION:It’s Family Day out on the ice! Treat yourself to this local winter tradition and learn all about ice fishing from expert instructors. We will cover the equipment used\, fishing techniques and ice safety out on Wirth Lake. Learn about water ecology and lake life under the ice from MPRB Environmental staff. There will be limited heated shelters for participants to share. There will be limited heated shelters for participants to share. And if you’re lucky you will catch (and release) your very own fish. All family groups are welcome to enjoy this day on the ice! Please register for this event. Time slots available at 10am – noon\, 12:30 – 2:30 pm\, and 3:00 – 5:00 pm. Class meets at the Theo Wirth boat launch.
URL:https://sacredwatersharedfuture.org/event/family-ice-fishing-day/
LOCATION:Theodore Wirth Park Boat Launch\, 3130 Glenwood Ave\, Golden Valley\, MN\, 55422\, United States
ATTACH;FMTTYPE=image/png:https://sacredwatersharedfuture.org/wp-content/uploads/2026/01/pwWeebwI6c6K-Family-Ice-Fishing-Days.png
ORGANIZER;CN="Kroening Nature Center":MAILTO:FDNorthMiss@minneapolisparks.org
GEO:44.9808111;-93.3196504
X-APPLE-STRUCTURED-LOCATION;VALUE=URI;X-ADDRESS=Theodore Wirth Park Boat Launch 3130 Glenwood Ave Golden Valley MN 55422 United States;X-APPLE-RADIUS=500;X-TITLE=3130 Glenwood Ave:geo:-93.3196504,44.9808111
END:VEVENT
BEGIN:VEVENT
DTSTART;TZID=America/Chicago:20260222T110000
DTEND;TZID=America/Chicago:20260222T180000
DTSTAMP:20260421T215907
CREATED:20260120T175621Z
LAST-MODIFIED:20260120T180610Z
UID:10000140-1771758000-1771783200@sacredwatersharedfuture.org
SUMMARY:Where There is Water
DESCRIPTION:Where There Is Water showcases paintings\, prints\, and drawings developed through repeated travel to Duluth\, Red Wing\, and Banning State Park near Sandstone. These locations — each shaped by different moments in Minnesota’s industrial history — are connected by rivers and lakes whose presence enabled movement\, industry\, and settlement while leaving lasting marks on the surrounding landscape. \nAcross seasons and multiple visits\, Hanlon observed\, photographed\, and created work on site. The resulting pieces reflect both the layered timelines of these places and her embodied experience of encountering them in the present moment. Familiar structures reappear throughout the exhibition: the historic lighthouse along the Lake Superior shipping canal\, boathouses along the Mississippi River in Red Wing\, and the remains of a Power House in a former sandstone quarry on the Kettle River. \nThe exhibition includes large- and medium-scale oil paintings on canvas and wood\, oil studies on Arches paper\, linocut and collagraph prints\, and a collection of colored pencil studies. Rather than document a single view\, the works speak together — holding multiple moments at once and mirroring the way places are understood through memory\, repetition\, and attentive noticing. As the pilot project for the Curatorial Incubator\, Hanlon’s exhibition also includes public programs intended to bring community members into dialogue with the work and with the landscapes that shape our region. \nEVENTS\nOpening Reception: Friday\, February 13\, 6:00 – 8:00 pm \nArtist Talk: Sunday\, March 1\, 2:00 – 3:00 pm \nClosing Reception: Saturday\, March 14\, 4:00 – 6:00 pm \nGALLERY HOURS\nThursday\, Friday\, and Sunday\, 11:00 am – 6:00 pm
URL:https://sacredwatersharedfuture.org/event/where-there-is-water/2026-02-22/
LOCATION:A House Unbuilt\, 321 Main St S\, Ste 204\, Stillwater\, MN\, 55082\, United States
ATTACH;FMTTYPE=image/jpeg:https://sacredwatersharedfuture.org/wp-content/uploads/2026/01/YiqidgACJoZP-Cold-Walk-in-the-Sun_Oil-on-Canvas-2048x1833-1.jpg
ORGANIZER;CN="A House Unbuilt":MAILTO:victoria@ahouseunbuilt.com
GEO:45.0544474;-92.8048155
X-APPLE-STRUCTURED-LOCATION;VALUE=URI;X-ADDRESS=A House Unbuilt 321 Main St S Ste 204 Stillwater MN 55082 United States;X-APPLE-RADIUS=500;X-TITLE=321 Main St S\, Ste 204:geo:-92.8048155,45.0544474
END:VEVENT
BEGIN:VEVENT
DTSTART;TZID=America/Chicago:20260222T140000
DTEND;TZID=America/Chicago:20260222T150000
DTSTAMP:20260421T215907
CREATED:20251219T183940Z
LAST-MODIFIED:20251219T183940Z
UID:10000009-1771768800-1771772400@sacredwatersharedfuture.org
SUMMARY:Big Year of Rivers Speaker Series - The Immortal Plastic Bottle
DESCRIPTION:Join us for a presentation by Dr. Mary Kosuth — Educator at Dunwoody College and Research Scientist at the School of Public Health at the UMN. \nThis presentation will cover the history of plastic\, plastic pollution\, and microplastic research. We will talk about what is known\, what isn’t known\, and what we can all do in the meantime. \nRegistration required 24 hours prior. \nMore Info >
URL:https://sacredwatersharedfuture.org/event/big-year-of-rivers-speaker-series-the-immortal-plastic-bottle/
LOCATION:Mississippi Gateway Regional Park\, 10360 W River Rd\, Brooklyn Park\, MN\, 55444\, United States
ATTACH;FMTTYPE=image/jpeg:https://sacredwatersharedfuture.org/wp-content/uploads/2025/12/iO9pkS6g3hoI-BYOR_IG-Post-River-is-Calling.jpg-e1776448783720.jpeg
ORGANIZER;CN="Three Rivers Park District":MAILTO:ashley.levoir@threeriversparks.org
GEO:45.1404171;-93.3127019
X-APPLE-STRUCTURED-LOCATION;VALUE=URI;X-ADDRESS=Mississippi Gateway Regional Park 10360 W River Rd Brooklyn Park MN 55444 United States;X-APPLE-RADIUS=500;X-TITLE=10360 W River Rd:geo:-93.3127019,45.1404171
END:VEVENT
END:VCALENDAR