BEGIN:VCALENDAR
VERSION:2.0
PRODID:-//Sacred Water Shared Future - ECPv6.15.20//NONSGML v1.0//EN
CALSCALE:GREGORIAN
METHOD:PUBLISH
X-ORIGINAL-URL:https://sacredwatersharedfuture.org
X-WR-CALDESC:Events for Sacred Water Shared Future
REFRESH-INTERVAL;VALUE=DURATION:PT1H
X-Robots-Tag:noindex
X-PUBLISHED-TTL:PT1H
BEGIN:VTIMEZONE
TZID:America/Chicago
BEGIN:DAYLIGHT
TZOFFSETFROM:-0600
TZOFFSETTO:-0500
TZNAME:CDT
DTSTART:20250309T080000
END:DAYLIGHT
BEGIN:STANDARD
TZOFFSETFROM:-0500
TZOFFSETTO:-0600
TZNAME:CST
DTSTART:20251102T070000
END:STANDARD
BEGIN:DAYLIGHT
TZOFFSETFROM:-0600
TZOFFSETTO:-0500
TZNAME:CDT
DTSTART:20260308T080000
END:DAYLIGHT
BEGIN:STANDARD
TZOFFSETFROM:-0500
TZOFFSETTO:-0600
TZNAME:CST
DTSTART:20261101T070000
END:STANDARD
BEGIN:DAYLIGHT
TZOFFSETFROM:-0600
TZOFFSETTO:-0500
TZNAME:CDT
DTSTART:20270314T080000
END:DAYLIGHT
BEGIN:STANDARD
TZOFFSETFROM:-0500
TZOFFSETTO:-0600
TZNAME:CST
DTSTART:20271107T070000
END:STANDARD
END:VTIMEZONE
BEGIN:VEVENT
DTSTART;TZID=America/Chicago:20260328T090000
DTEND;TZID=America/Chicago:20260328T100000
DTSTAMP:20260421T232647
CREATED:20251219T193953Z
LAST-MODIFIED:20251219T193953Z
UID:10000124-1774688400-1774692000@sacredwatersharedfuture.org
SUMMARY:Young Birders Club: Waterfowl
DESCRIPTION:The ice is thawing\, and birds are migrating north along the Mississippi River. This is just the right time to be out looking for ducks\, mergansers and other water birds! All materials provided.
URL:https://sacredwatersharedfuture.org/event/young-birders-club-waterfowl/
LOCATION:Mississippi Gateway Regional Park\, 10360 W River Rd\, Brooklyn Park\, MN\, 55444\, United States
ATTACH;FMTTYPE=image/jpeg:https://sacredwatersharedfuture.org/wp-content/uploads/2025/12/iO9pkS6g3hoI-BYOR_IG-Post-River-is-Calling.jpg-e1776448783720.jpeg
ORGANIZER;CN="Three Rivers Park District":MAILTO:ashley.levoir@threeriversparks.org
GEO:45.1404171;-93.3127019
X-APPLE-STRUCTURED-LOCATION;VALUE=URI;X-ADDRESS=Mississippi Gateway Regional Park 10360 W River Rd Brooklyn Park MN 55444 United States;X-APPLE-RADIUS=500;X-TITLE=10360 W River Rd:geo:-93.3127019,45.1404171
END:VEVENT
BEGIN:VEVENT
DTSTART;TZID=America/Chicago:20260328T110000
DTEND;TZID=America/Chicago:20260328T140000
DTSTAMP:20260421T232647
CREATED:20260304T195236Z
LAST-MODIFIED:20260304T195750Z
UID:10000163-1774695600-1774706400@sacredwatersharedfuture.org
SUMMARY:Welcome Back the Herons
DESCRIPTION:Get ready to celebrate as we joyfully welcome back the herons\, cormorants\, and egrets that make Minnesota their summer home! After their long migratory journey along the Mississippi River\, these magnificent birds are returning\, heralding the arrival of spring and a season of renewal. \nJoin us for a festive event filled with birdwatching\, engaging talks about the incredible journeys of these majestic birds\, and a walk to the river\, where you’ll have the chance to witness them building their nests at the heron rookery in Northeast Minneapolis. \nWhether you’re a seasoned birdwatcher\, a nature enthusiast\, or simply someone who admires the beauty of the natural world\, this event promises to be a delightful experience for all ages. Let’s come together to celebrate the herons’ return\, embrace the spirit of community\, and revel in the wonders of nature at the Mississippi National River and Recreation Area\, your national park!
URL:https://sacredwatersharedfuture.org/event/welcome-back-the-herons/
LOCATION:Marshall Terrace Park\, 2470 Marshall St. NE\, Minneapolis\, MN\, 55418\, United States
ATTACH;FMTTYPE=image/jpeg:https://sacredwatersharedfuture.org/wp-content/uploads/2026/03/w021SOhJ1j5m-MISS_WelcomeBacktheHerons_Mar30_24_KurtMoses34-e1772654263442.jpg
ORGANIZER;CN="Mississippi Park Connection":MAILTO:lmoberg@parkconnection.org
GEO:45.0130884;-93.2720452
X-APPLE-STRUCTURED-LOCATION;VALUE=URI;X-ADDRESS=Marshall Terrace Park 2470 Marshall St. NE Minneapolis MN 55418 United States;X-APPLE-RADIUS=500;X-TITLE=2470 Marshall St. NE:geo:-93.2720452,45.0130884
END:VEVENT
BEGIN:VEVENT
DTSTART;TZID=America/Chicago:20260328T130000
DTEND;TZID=America/Chicago:20260328T140000
DTSTAMP:20260421T232647
CREATED:20251219T194400Z
LAST-MODIFIED:20251219T194400Z
UID:10000125-1774702800-1774706400@sacredwatersharedfuture.org
SUMMARY:Turtles of the Mississippi River
DESCRIPTION:Meet some of the turtles that call the Mississippi River home. Through careful observation and exploration of one of the places they call home\, discover how their adapted bodies and behaviors help them survive in this riparian habitat.
URL:https://sacredwatersharedfuture.org/event/turtles-of-the-mississippi-river/
LOCATION:Mississippi Gateway Regional Park\, 10360 W River Rd\, Brooklyn Park\, MN\, 55444\, United States
ATTACH;FMTTYPE=image/jpeg:https://sacredwatersharedfuture.org/wp-content/uploads/2025/12/iO9pkS6g3hoI-BYOR_IG-Post-River-is-Calling.jpg-e1776448783720.jpeg
ORGANIZER;CN="Three Rivers Park District":MAILTO:ashley.levoir@threeriversparks.org
GEO:45.1404171;-93.3127019
X-APPLE-STRUCTURED-LOCATION;VALUE=URI;X-ADDRESS=Mississippi Gateway Regional Park 10360 W River Rd Brooklyn Park MN 55444 United States;X-APPLE-RADIUS=500;X-TITLE=10360 W River Rd:geo:-93.3127019,45.1404171
END:VEVENT
BEGIN:VEVENT
DTSTART;TZID=America/Chicago:20260329T130000
DTEND;TZID=America/Chicago:20260329T140000
DTSTAMP:20260421T232647
CREATED:20251219T194629Z
LAST-MODIFIED:20251219T194629Z
UID:10000126-1774789200-1774792800@sacredwatersharedfuture.org
SUMMARY:Free Family Funday - Waterfowl on the River
DESCRIPTION:The ice is thawing\, and birds are migrating north along the Mississippi River. Use binoculars and a spotting scope to look for ducks\, mergansers and other water birds! All materials provided.
URL:https://sacredwatersharedfuture.org/event/free-family-funday-waterfowl-on-the-river/
LOCATION:Mississippi Gateway Regional Park\, 10360 W River Rd\, Brooklyn Park\, MN\, 55444\, United States
ATTACH;FMTTYPE=image/jpeg:https://sacredwatersharedfuture.org/wp-content/uploads/2025/12/iO9pkS6g3hoI-BYOR_IG-Post-River-is-Calling.jpg-e1776448783720.jpeg
ORGANIZER;CN="Three Rivers Park District":MAILTO:ashley.levoir@threeriversparks.org
GEO:45.1404171;-93.3127019
X-APPLE-STRUCTURED-LOCATION;VALUE=URI;X-ADDRESS=Mississippi Gateway Regional Park 10360 W River Rd Brooklyn Park MN 55444 United States;X-APPLE-RADIUS=500;X-TITLE=10360 W River Rd:geo:-93.3127019,45.1404171
END:VEVENT
END:VCALENDAR