BEGIN:VCALENDAR
VERSION:2.0
PRODID:-//Sacred Water Shared Future - ECPv6.15.20//NONSGML v1.0//EN
CALSCALE:GREGORIAN
METHOD:PUBLISH
X-ORIGINAL-URL:https://sacredwatersharedfuture.org
X-WR-CALDESC:Events for Sacred Water Shared Future
REFRESH-INTERVAL;VALUE=DURATION:PT1H
X-Robots-Tag:noindex
X-PUBLISHED-TTL:PT1H
BEGIN:VTIMEZONE
TZID:America/Chicago
BEGIN:DAYLIGHT
TZOFFSETFROM:-0600
TZOFFSETTO:-0500
TZNAME:CDT
DTSTART:20250309T080000
END:DAYLIGHT
BEGIN:STANDARD
TZOFFSETFROM:-0500
TZOFFSETTO:-0600
TZNAME:CST
DTSTART:20251102T070000
END:STANDARD
BEGIN:DAYLIGHT
TZOFFSETFROM:-0600
TZOFFSETTO:-0500
TZNAME:CDT
DTSTART:20260308T080000
END:DAYLIGHT
BEGIN:STANDARD
TZOFFSETFROM:-0500
TZOFFSETTO:-0600
TZNAME:CST
DTSTART:20261101T070000
END:STANDARD
BEGIN:DAYLIGHT
TZOFFSETFROM:-0600
TZOFFSETTO:-0500
TZNAME:CDT
DTSTART:20270314T080000
END:DAYLIGHT
BEGIN:STANDARD
TZOFFSETFROM:-0500
TZOFFSETTO:-0600
TZNAME:CST
DTSTART:20271107T070000
END:STANDARD
END:VTIMEZONE
BEGIN:VEVENT
DTSTART;TZID=America/Chicago:20260404T100000
DTEND;TZID=America/Chicago:20260404T120000
DTSTAMP:20260421T202643
CREATED:20260302T211538Z
LAST-MODIFIED:20260302T211538Z
UID:10000156-1775296800-1775304000@sacredwatersharedfuture.org
SUMMARY:Heron Hootenanny
DESCRIPTION:The great blue herons have returned to the Upper Mississippi River! Learn about herons and their lives on a geocaching course\, pretend you’re a great blue heron migrating along the Mississippi Flyway by playing a game. Gain experience using binoculars as you take a walk in search of herons and look for their distinctive blue eggs.
URL:https://sacredwatersharedfuture.org/event/heron-hootenanny/
LOCATION:Mississippi Gateway Regional Park\, 10360 W River Rd\, Brooklyn Park\, MN\, 55444\, United States
ATTACH;FMTTYPE=image/jpeg:https://sacredwatersharedfuture.org/wp-content/uploads/2025/12/iO9pkS6g3hoI-BYOR_IG-Post-River-is-Calling.jpg-e1776448783720.jpeg
ORGANIZER;CN="Three Rivers Park District":MAILTO:ashley.levoir@threeriversparks.org
GEO:45.1404171;-93.3127019
X-APPLE-STRUCTURED-LOCATION;VALUE=URI;X-ADDRESS=Mississippi Gateway Regional Park 10360 W River Rd Brooklyn Park MN 55444 United States;X-APPLE-RADIUS=500;X-TITLE=10360 W River Rd:geo:-93.3127019,45.1404171
END:VEVENT
BEGIN:VEVENT
DTSTART;TZID=America/Chicago:20260404T110000
DTEND;TZID=America/Chicago:20260404T123000
DTSTAMP:20260421T202643
CREATED:20260317T175706Z
LAST-MODIFIED:20260317T175706Z
UID:10000167-1775300400-1775305800@sacredwatersharedfuture.org
SUMMARY:Winter Wander and Wonder Walk
DESCRIPTION:The possibilities for discovery are endless in winter at Mississippi National River and Recreation Area! \nJoin us at Crosby Farm Regional Park where nature’s beauty reveals itself in its serene\, frosty charm. This enchanting stroll will be led by a knowledgeable national park ranger who will guide you through the breathtaking floodplain forest\, showcasing the unique ecology and wildlife that thrive in this winter landscape. \nAs we meander along the peaceful trails\, you’ll have the opportunity to explore the stunning views of the frozen riverbanks and the delicate intricacies of the winter ecosystem. Our ranger will share fascinating insights about the flora and fauna that call this area home as well as the significance of the floodplain. On your adventure\, you may discover coyote tracks\, owl pellets\, or bald eagle nests. \nThis walk is suitable for all ages. When weather allows\, we may travel over snow or a frozen lake. We’ll go up 1.25 miles (approx. 2 km) depending on current trail conditions. Wear sturdy shoes\, bring water to stay hydrated\, and dress warmly as no heating facilities are available. We recommend participants be prepared to travel across snow and/or icy conditions (e.g.\, traction devices\, trekking poles). Don’t forget your sense of wonder as we immerse ourselves in the beauty of winter! \n\nCancellation Policy: Events are rain/snow or shine. Participants must be prepared for expected weather and may be turned away if not for their safety. Up to date information is available by calling the Mississippi River Visitor Center at 651-293-0200 (business hours apply). \n\nImage courtesy of Edwige Moses. All rights reserved.
URL:https://sacredwatersharedfuture.org/event/winter-wander-and-wonder-walk/
LOCATION:Crosby Farm Regional Park\, 2595 Crosby Farm Rd\, Saint Paul\, MN\, 55116\, United States
ATTACH;FMTTYPE=image/jpeg:https://sacredwatersharedfuture.org/wp-content/uploads/2026/03/Ogqkx155f9rj-MISS_WinterPlayDay_012525_EdwigeMoses0032_Resized.jpg-e1773768588524.jpeg
ORGANIZER;CN="Mississippi Park Connection":MAILTO:lmoberg@parkconnection.org
GEO:44.8976674;-93.1673765
X-APPLE-STRUCTURED-LOCATION;VALUE=URI;X-ADDRESS=Crosby Farm Regional Park 2595 Crosby Farm Rd Saint Paul MN 55116 United States;X-APPLE-RADIUS=500;X-TITLE=2595 Crosby Farm Rd:geo:-93.1673765,44.8976674
END:VEVENT
END:VCALENDAR