BEGIN:VCALENDAR
VERSION:2.0
PRODID:-//Sacred Water Shared Future - ECPv6.15.20//NONSGML v1.0//EN
CALSCALE:GREGORIAN
METHOD:PUBLISH
X-WR-CALNAME:Sacred Water Shared Future
X-ORIGINAL-URL:https://sacredwatersharedfuture.org
X-WR-CALDESC:Events for Sacred Water Shared Future
REFRESH-INTERVAL;VALUE=DURATION:PT1H
X-Robots-Tag:noindex
X-PUBLISHED-TTL:PT1H
BEGIN:VTIMEZONE
TZID:America/Chicago
BEGIN:DAYLIGHT
TZOFFSETFROM:-0600
TZOFFSETTO:-0500
TZNAME:CDT
DTSTART:20250309T080000
END:DAYLIGHT
BEGIN:STANDARD
TZOFFSETFROM:-0500
TZOFFSETTO:-0600
TZNAME:CST
DTSTART:20251102T070000
END:STANDARD
BEGIN:DAYLIGHT
TZOFFSETFROM:-0600
TZOFFSETTO:-0500
TZNAME:CDT
DTSTART:20260308T080000
END:DAYLIGHT
BEGIN:STANDARD
TZOFFSETFROM:-0500
TZOFFSETTO:-0600
TZNAME:CST
DTSTART:20261101T070000
END:STANDARD
BEGIN:DAYLIGHT
TZOFFSETFROM:-0600
TZOFFSETTO:-0500
TZNAME:CDT
DTSTART:20270314T080000
END:DAYLIGHT
BEGIN:STANDARD
TZOFFSETFROM:-0500
TZOFFSETTO:-0600
TZNAME:CST
DTSTART:20271107T070000
END:STANDARD
END:VTIMEZONE
BEGIN:VEVENT
DTSTART;TZID=America/Chicago:20260502T100000
DTEND;TZID=America/Chicago:20260502T150000
DTSTAMP:20260423T050713
CREATED:20260401T131921Z
LAST-MODIFIED:20260401T131957Z
UID:10000175-1777716000-1777734000@sacredwatersharedfuture.org
SUMMARY:Twin Cities Bird Festival
DESCRIPTION:Celebrate World Migratory Bird Day along the Great Mississippi Flyway! Learn what makes this spot on the river so captivating for migratory birds. Check out the live raptors\, attend a family-friendly bird walk or an indoor talk about bird conservation. Visit the new Gateway Center\, Treetop Trail or walk across the dam. Food trucks with lunch fare will be on site. Event is organized in partnership with American Bird Conservancy\, St. Paul Bird Alliance\, MN Bird Coalition\, Land of Lakes Bird Alliance\, Minneapolis Park and Recreation Board\, FWS\, MN DNR\, Hennepin County\, NPS.
URL:https://sacredwatersharedfuture.org/event/twin-cities-bird-festival/
LOCATION:Mississippi Gateway Regional Park\, 10360 W River Rd\, Brooklyn Park\, MN\, 55444\, United States
ATTACH;FMTTYPE=image/jpeg:https://sacredwatersharedfuture.org/wp-content/uploads/2025/12/iO9pkS6g3hoI-BYOR_IG-Post-River-is-Calling.jpg-e1776448783720.jpeg
ORGANIZER;CN="Three Rivers Park District":MAILTO:ashley.levoir@threeriversparks.org
GEO:45.1404171;-93.3127019
X-APPLE-STRUCTURED-LOCATION;VALUE=URI;X-ADDRESS=Mississippi Gateway Regional Park 10360 W River Rd Brooklyn Park MN 55444 United States;X-APPLE-RADIUS=500;X-TITLE=10360 W River Rd:geo:-93.3127019,45.1404171
END:VEVENT
BEGIN:VEVENT
DTSTART;TZID=America/Chicago:20260502T120000
DTEND;TZID=America/Chicago:20260502T130000
DTSTAMP:20260423T050713
CREATED:20260331T132547Z
LAST-MODIFIED:20260331T132644Z
UID:10000174-1777723200-1777726800@sacredwatersharedfuture.org
SUMMARY:Adopt-a-Drain at the Twins Game
DESCRIPTION:Adopt-a-Drain and the Metro Watershed Partners are offering discounted tickets for members of the Adopt-a-Drain program to come to the Minnesota Twins Game at Target Field stadium on Saturday\, May 2. There will be an Adopt-a-Drain pre-game parade around the field with program participants\, and information will be shared about the Sacred Water Shared Future message in the stadium at that time.
URL:https://sacredwatersharedfuture.org/event/adopt-a-drain-at-the-twins-game/
LOCATION:Target Field\, 1 Twins Way\, Minneapolis\, MN\, 55403\, United States
ATTACH;FMTTYPE=image/jpeg:https://sacredwatersharedfuture.org/wp-content/uploads/2026/03/HR9E7ojjomcD-AaD_Hamline_Logo_Color-e1774963593221.jpg
ORGANIZER;CN="Adopt-A-Drain":MAILTO:info@adopt-a-drain.org
GEO:44.9812809;-93.2758739
X-APPLE-STRUCTURED-LOCATION;VALUE=URI;X-ADDRESS=Target Field 1 Twins Way Minneapolis MN 55403 United States;X-APPLE-RADIUS=500;X-TITLE=1 Twins Way:geo:-93.2758739,44.9812809
END:VEVENT
END:VCALENDAR